BEGIN:VCALENDAR
VERSION:2.0
PRODID:-//Vision Loss Resources - ECPv6.15.19//NONSGML v1.0//EN
CALSCALE:GREGORIAN
METHOD:PUBLISH
X-ORIGINAL-URL:https://visionlossresources.org
X-WR-CALDESC:Events for Vision Loss Resources
REFRESH-INTERVAL;VALUE=DURATION:PT1H
X-Robots-Tag:noindex
X-PUBLISHED-TTL:PT1H
BEGIN:VTIMEZONE
TZID:America/Chicago
BEGIN:DAYLIGHT
TZOFFSETFROM:-0600
TZOFFSETTO:-0500
TZNAME:CDT
DTSTART:20240310T080000
END:DAYLIGHT
BEGIN:STANDARD
TZOFFSETFROM:-0500
TZOFFSETTO:-0600
TZNAME:CST
DTSTART:20241103T070000
END:STANDARD
BEGIN:DAYLIGHT
TZOFFSETFROM:-0600
TZOFFSETTO:-0500
TZNAME:CDT
DTSTART:20250309T080000
END:DAYLIGHT
BEGIN:STANDARD
TZOFFSETFROM:-0500
TZOFFSETTO:-0600
TZNAME:CST
DTSTART:20251102T070000
END:STANDARD
BEGIN:DAYLIGHT
TZOFFSETFROM:-0600
TZOFFSETTO:-0500
TZNAME:CDT
DTSTART:20260308T080000
END:DAYLIGHT
BEGIN:STANDARD
TZOFFSETFROM:-0500
TZOFFSETTO:-0600
TZNAME:CST
DTSTART:20261101T070000
END:STANDARD
END:VTIMEZONE
BEGIN:VEVENT
DTSTART;TZID=America/Chicago:20250406T130000
DTEND;TZID=America/Chicago:20250406T160000
DTSTAMP:20260423T090215
CREATED:20250320T141157Z
LAST-MODIFIED:20250320T141157Z
UID:10001375-1743944400-1743955200@visionlossresources.org
SUMMARY:Deafblind Hands On Day
DESCRIPTION:Explore! Learn! Connect! Experience the DeafBlind Community Up Close! \n• Hands-on Activities \n• Tactile Displays \n• Assistive Technology \n• Meet DeafBlind Individuals and Learn from Their Stories. Join us for an unforgettable afternoon of learning and connection! \nCome and discover the vibrant world of DeafBlind individuals \nand their unique experiences! \n\nOpen to the public\, but please register ahead of time if you are coming. Send your name\, your email address and any communication accommodation requests to DBHOD6@gmail.com. Admission is free!
URL:https://visionlossresources.org/event/deafblind-hands-on-day/
LOCATION:Deaf Life Church\, 532 Snelling Ave S\, Saint Paul\, MN\, 55116\, United States
ORGANIZER;CN="Vision Loss Resources":MAILTO:rsvp@vlrw.org
END:VEVENT
END:VCALENDAR