BEGIN:VCALENDAR
VERSION:2.0
PRODID:-//Vision Loss Resources - ECPv6.15.19//NONSGML v1.0//EN
CALSCALE:GREGORIAN
METHOD:PUBLISH
X-ORIGINAL-URL:https://visionlossresources.org
X-WR-CALDESC:Events for Vision Loss Resources
REFRESH-INTERVAL;VALUE=DURATION:PT1H
X-Robots-Tag:noindex
X-PUBLISHED-TTL:PT1H
BEGIN:VTIMEZONE
TZID:America/Chicago
BEGIN:DAYLIGHT
TZOFFSETFROM:-0600
TZOFFSETTO:-0500
TZNAME:CDT
DTSTART:20190310T080000
END:DAYLIGHT
BEGIN:STANDARD
TZOFFSETFROM:-0500
TZOFFSETTO:-0600
TZNAME:CST
DTSTART:20191103T070000
END:STANDARD
BEGIN:DAYLIGHT
TZOFFSETFROM:-0600
TZOFFSETTO:-0500
TZNAME:CDT
DTSTART:20200308T080000
END:DAYLIGHT
BEGIN:STANDARD
TZOFFSETFROM:-0500
TZOFFSETTO:-0600
TZNAME:CST
DTSTART:20201101T070000
END:STANDARD
BEGIN:DAYLIGHT
TZOFFSETFROM:-0600
TZOFFSETTO:-0500
TZNAME:CDT
DTSTART:20210314T080000
END:DAYLIGHT
BEGIN:STANDARD
TZOFFSETFROM:-0500
TZOFFSETTO:-0600
TZNAME:CST
DTSTART:20211107T070000
END:STANDARD
END:VTIMEZONE
BEGIN:VEVENT
DTSTART;TZID=America/Chicago:20200915T100000
DTEND;TZID=America/Chicago:20200915T120000
DTSTAMP:20260422T025632
CREATED:20200824T150031Z
LAST-MODIFIED:20200824T164605Z
UID:10000999-1600164000-1600171200@visionlossresources.org
SUMMARY:Tech Discussion: Fun and Games
DESCRIPTION:During this Technology Discussion\, we will discuss using your mobile phone for fun! Streaming services\, applications\, games\, and other fun things you can do with your mobile device. \nTo join\, click on the Zoom link below or dial the phone number and enter the meeting ID: \nhttps://zoom.us/j/93451159131 \n(312) 626-6799 \nMeeting ID:  934 5115 9131 \nOne tap mobile: +13126266799\,\,93451159131#
URL:https://visionlossresources.org/event/tech-discussion-fun-and-games/
LOCATION:MN\, United States
CATEGORIES:Featured,Tech
ORGANIZER;CN="Vision Loss Resources":MAILTO:rsvp@vlrw.org
END:VEVENT
END:VCALENDAR