BEGIN:VCALENDAR
VERSION:2.0
PRODID:-//Vision Loss Resources - ECPv6.15.19//NONSGML v1.0//EN
CALSCALE:GREGORIAN
METHOD:PUBLISH
X-WR-CALNAME:Vision Loss Resources
X-ORIGINAL-URL:https://visionlossresources.org
X-WR-CALDESC:Events for Vision Loss Resources
REFRESH-INTERVAL;VALUE=DURATION:PT1H
X-Robots-Tag:noindex
X-PUBLISHED-TTL:PT1H
BEGIN:VTIMEZONE
TZID:Africa/Abidjan
BEGIN:STANDARD
TZOFFSETFROM:+0000
TZOFFSETTO:+0000
TZNAME:GMT
DTSTART:20180101T000000
END:STANDARD
END:VTIMEZONE
BEGIN:VTIMEZONE
TZID:America/Chicago
BEGIN:DAYLIGHT
TZOFFSETFROM:-0600
TZOFFSETTO:-0500
TZNAME:CDT
DTSTART:20180311T080000
END:DAYLIGHT
BEGIN:STANDARD
TZOFFSETFROM:-0500
TZOFFSETTO:-0600
TZNAME:CST
DTSTART:20181104T070000
END:STANDARD
BEGIN:DAYLIGHT
TZOFFSETFROM:-0600
TZOFFSETTO:-0500
TZNAME:CDT
DTSTART:20190310T080000
END:DAYLIGHT
BEGIN:STANDARD
TZOFFSETFROM:-0500
TZOFFSETTO:-0600
TZNAME:CST
DTSTART:20191103T070000
END:STANDARD
BEGIN:DAYLIGHT
TZOFFSETFROM:-0600
TZOFFSETTO:-0500
TZNAME:CDT
DTSTART:20200308T080000
END:DAYLIGHT
BEGIN:STANDARD
TZOFFSETFROM:-0500
TZOFFSETTO:-0600
TZNAME:CST
DTSTART:20201101T070000
END:STANDARD
END:VTIMEZONE
BEGIN:VEVENT
DTSTART;TZID=Africa/Abidjan:20191003T100000
DTEND;TZID=Africa/Abidjan:20191003T120000
DTSTAMP:20260422T043151
CREATED:20190923T195309Z
LAST-MODIFIED:20190923T201310Z
UID:10000766-1570096800-1570104000@visionlossresources.org
SUMMARY:Cards 500
DESCRIPTION:Enjoy some coffee and cards.
URL:https://visionlossresources.org/event/cards-500-8/2019-10-03/
LOCATION:United States
CATEGORIES:Game
ORGANIZER;CN="Vision Loss Resources":MAILTO:rsvp@vlrw.org
END:VEVENT
BEGIN:VEVENT
DTSTART;TZID=Africa/Abidjan:20191002T170000
DTEND;TZID=Africa/Abidjan:20191002T190000
DTSTAMP:20260422T043151
CREATED:20190923T195308Z
LAST-MODIFIED:20190924T160319Z
UID:10000765-1570035600-1570042800@visionlossresources.org
SUMMARY:Supper Club: The Lynhall
DESCRIPTION:The Lynhall is just south of Minneapolis VLR. It is a market-inspired restaurant\, event space\, kitchen studio and incubator kitchen\, per the website. They strive to create a space to inspire employees\, customers and makers to gather around great food experiences. They have a full bar and an updated fall menu. Due to the size of our group\, gratuity is added to each bill. Plan your rides for 7 pm to 7:15 pm. Space is limited.Address: 2640 Lyndale Ave. S. (Lowry Hill East area) Minneapolis 55408 (Corner of Lyndale S. and W. 27th St.)
URL:https://visionlossresources.org/event/supper-club-the-lynhall/
LOCATION:Roseville Ramsey County Library\, 2180 Hamline Avenue North\, Roseville\, MN\, 55113
CATEGORIES:Dining,Featured
ORGANIZER;CN="Vision Loss Resources":MAILTO:rsvp@vlrw.org
END:VEVENT
BEGIN:VEVENT
DTSTART;TZID=America/Chicago:20190927T100000
DTEND;TZID=America/Chicago:20190927T120000
DTSTAMP:20260422T043151
CREATED:20190815T191337Z
LAST-MODIFIED:20190924T160549Z
UID:10000753-1569578400-1569585600@visionlossresources.org
SUMMARY:Pottery
DESCRIPTION:Join us as we work on hand-built clay projects. Come make plates\, cups\, or create whatever comes to the imagination. No experience necessary. Space is limited. \nPlease RSVP for every event: call (612) 843-3439 or email rsvp@vlrw.org. \nLearn about VLR’s event policies and news.
URL:https://visionlossresources.org/event/pottery-4/
LOCATION:United States
CATEGORIES:Art,Craft,Featured,Volunteers Needed
ORGANIZER;CN="Vision Loss Resources":MAILTO:rsvp@vlrw.org
END:VEVENT
BEGIN:VEVENT
DTSTART;TZID=America/Chicago:20190926T100000
DTEND;TZID=America/Chicago:20190926T120000
DTSTAMP:20260422T043151
CREATED:20190815T192353Z
LAST-MODIFIED:20190918T133848Z
UID:10000624-1569492000-1569499200@visionlossresources.org
SUMMARY:Cards 500
DESCRIPTION:Enjoy some coffee and cards. \nPlease RSVP for every event: call (612) 843-3439 or email rsvp@vlrw.org. \nLearn about VLR’s event policies and news.
URL:https://visionlossresources.org/event/cards-500-7/
LOCATION:United States
CATEGORIES:Game
ORGANIZER;CN="Vision Loss Resources":MAILTO:rsvp@vlrw.org
END:VEVENT
BEGIN:VEVENT
DTSTART;TZID=America/Chicago:20190925T130000
DTEND;TZID=America/Chicago:20190925T153000
DTSTAMP:20260422T043151
CREATED:20190815T192350Z
LAST-MODIFIED:20190918T134302Z
UID:10000618-1569416400-1569425400@visionlossresources.org
SUMMARY:3Fs: Fabric\, Fiber\, and Friends
DESCRIPTION:Do you enjoy knitting\, crocheting\, quilting\, or creative hobbies? Then come in and bring your own project to work on as you enjoy the company of others. We donate many of our handmade items to local charities! \n\nPlease RSVP for every event: call (612) 843-3439 or email rsvp@vlrw.org. \nLearn about VLR’s event policies and news.
URL:https://visionlossresources.org/event/3fs-fabric-fiber-and-friends-5/2019-09-25/
LOCATION:United States
CATEGORIES:Craft
ORGANIZER;CN="Vision Loss Resources":MAILTO:rsvp@vlrw.org
END:VEVENT
BEGIN:VEVENT
DTSTART;TZID=America/Chicago:20190925T101500
DTEND;TZID=America/Chicago:20190925T163000
DTSTAMP:20260422T043151
CREATED:20190815T192355Z
LAST-MODIFIED:20190924T160512Z
UID:10000763-1569406500-1569429000@visionlossresources.org
SUMMARY:A day at the Minnesota Landscape Arboretum
DESCRIPTION:The Minnesota Landscape Arboretum is a premier northern garden and has over 1\,200 acres of gardens and tree collections\, prairie and woods\, and miles of trails. We will take a private tram tour narrated by their staff. The Arboretum was born out of the University’s Horticulture Research Center and established in 1958. \nA brief description of our day: we’ll leave VLR at 10:30am sharp. Once at the Arboretum\, you and your sighted helper can tour the main building and nearby gardens. Lunch is available in the cafeteria and is your responsibility\, or you can pack your own. We’ll board the tram by 1:20 pm for our tour. Depending on weather\, everyone’s preference\, and tram staff approval\, we may stop along the way to explore. At 3:00pm we will board the bus to return to VLR. Please dress appropriately for the weather. We encourage you to invite a sighted guest\, but they need to pay their own way. Arrange your pick-up rides for VLR Minneapolis at 4:30 pm. Space is limited. \nPlease note: This is a prepay event. You must RSVP and pay for this activity by Wednesday\, September 11th\, this includes your sighted guest’s ticket too. For more information go to the Refund Policy at the end of calendar. \nPlease RSVP for every event: call (612) 843-3439 or email rsvp@vlrw.org. \nLearn about VLR’s event policies and news.
URL:https://visionlossresources.org/event/a-day-at-the-minnesota-landscape-arboretum-2/
LOCATION:United States
CATEGORIES:Featured,Field Trip,Outdoors,Volunteers Needed
ORGANIZER;CN="Vision Loss Resources":MAILTO:rsvp@vlrw.org
END:VEVENT
BEGIN:VEVENT
DTSTART;TZID=America/Chicago:20190924T100000
DTEND;TZID=America/Chicago:20190924T120000
DTSTAMP:20260422T043151
CREATED:20190815T191337Z
LAST-MODIFIED:20190918T133940Z
UID:10000749-1569319200-1569326400@visionlossresources.org
SUMMARY:Adv. Tech: Accessible Games
DESCRIPTION:Is playing video games something that you enjoy? Ever wondered if consoles have audio? Want to know about the different tactile games or smartphone games out there? Well\, join us at this class as we discuss this! Please bring headphones or earbuds to class. \nPlease RSVP for every event: call (612) 843-3439 or email rsvp@vlrw.org. \nLearn about VLR’s event policies and news.
URL:https://visionlossresources.org/event/adv-tech-accessible-games/
LOCATION:United States
CATEGORIES:Tech
ORGANIZER;CN="Vision Loss Resources":MAILTO:rsvp@vlrw.org
END:VEVENT
BEGIN:VEVENT
DTSTART;TZID=America/Chicago:20190920T130000
DTEND;TZID=America/Chicago:20190920T140000
DTSTAMP:20260422T043151
CREATED:20190815T191337Z
LAST-MODIFIED:20190918T133946Z
UID:10000746-1568984400-1568988000@visionlossresources.org
SUMMARY:Balance Class
DESCRIPTION:Strength\, balance\, and physical endurance are sure to improve with this class. Each class will consist of strength training\, cardiovascular and balance exercises all designed for the unique needs of seniors. Interested in preventing falls\, building strength and improving flexibility\, then come and see if it is a good fit for you. Our trainer\, Angela\, can change-up the exercises to individual needs\, and important\, she keeps it fun! Space is limited. \nPlease RSVP for every event: call (612) 843-3439 or email rsvp@vlrw.org. \nLearn about VLR’s event policies and news.
URL:https://visionlossresources.org/event/balance-class-4/
LOCATION:United States
CATEGORIES:Featured,Fitness
ORGANIZER;CN="Vision Loss Resources":MAILTO:rsvp@vlrw.org
END:VEVENT
BEGIN:VEVENT
DTSTART;TZID=America/Chicago:20190920T111500
DTEND;TZID=America/Chicago:20190920T121500
DTSTAMP:20260422T043151
CREATED:20190815T192354Z
LAST-MODIFIED:20190918T133953Z
UID:10000626-1568978100-1568981700@visionlossresources.org
SUMMARY:Flexibility Class
DESCRIPTION:Improve your flexibility and stability with gentle muscular stretches and myofascial self-release. Join us twice a month and learn exercises that you can practice at home. Range of motion\, stabilizing\, and muscle firming exercises will be practiced. Floor work is not required but highly encouraged. Bring a fitness mat\, a rolling pin\, and a tennis ball to receive the most beneficial workout. Space is limited. \nPlease RSVP for every event: call (612) 843-3439 or email rsvp@vlrw.org. \nLearn about VLR’s event policies and news.
URL:https://visionlossresources.org/event/flexibility-class-6/
LOCATION:United States
CATEGORIES:Fitness
ORGANIZER;CN="Vision Loss Resources":MAILTO:rsvp@vlrw.org
END:VEVENT
BEGIN:VEVENT
DTSTART;TZID=America/Chicago:20190919T130000
DTEND;TZID=America/Chicago:20190919T150000
DTSTAMP:20260422T043151
CREATED:20190815T191337Z
LAST-MODIFIED:20190918T134603Z
UID:10000744-1568898000-1568905200@visionlossresources.org
SUMMARY:Adult finger-painting
DESCRIPTION:This will be a class of artistic imagination and sensual/tactile pleasure working with the paints of our childhoods. Join us for a fun afternoon. You bring the talent and the joy; we’ll provide snacks and beverages. It’ll be a fun afternoon. Space is limited. \nPlease RSVP for every event: call (612) 843-3439 or email rsvp@vlrw.org. \nLearn about VLR’s event policies and news.
URL:https://visionlossresources.org/event/adult-finger-painting/
LOCATION:United States
CATEGORIES:Craft,Volunteers Needed
ORGANIZER;CN="Vision Loss Resources":MAILTO:rsvp@vlrw.org
END:VEVENT
BEGIN:VEVENT
DTSTART;TZID=America/Chicago:20190919T090000
DTEND;TZID=America/Chicago:20190919T110000
DTSTAMP:20260422T043151
CREATED:20190815T191337Z
LAST-MODIFIED:20190919T180214Z
UID:10000742-1568883600-1568890800@visionlossresources.org
SUMMARY:Calendar
DESCRIPTION:Join the many helping hands that work together assembling the Community Center Calendar mailing. Treats served. \nPlease RSVP for every event: call (612) 843-3439 or email rsvp@vlrw.org. \nLearn about VLR’s event policies and news.
URL:https://visionlossresources.org/event/calendar-4/
LOCATION:United States
CATEGORIES:Volunteering
ORGANIZER;CN="Vision Loss Resources":MAILTO:rsvp@vlrw.org
END:VEVENT
BEGIN:VEVENT
DTSTART;TZID=America/Chicago:20190918T130000
DTEND;TZID=America/Chicago:20190918T153000
DTSTAMP:20260422T043151
CREATED:20190815T192350Z
LAST-MODIFIED:20190918T134302Z
UID:10000617-1568811600-1568820600@visionlossresources.org
SUMMARY:3Fs: Fabric\, Fiber\, and Friends
DESCRIPTION:Do you enjoy knitting\, crocheting\, quilting\, or creative hobbies? Then come in and bring your own project to work on as you enjoy the company of others. We donate many of our handmade items to local charities! \n\nPlease RSVP for every event: call (612) 843-3439 or email rsvp@vlrw.org. \nLearn about VLR’s event policies and news.
URL:https://visionlossresources.org/event/3fs-fabric-fiber-and-friends-5/2019-09-18/
LOCATION:United States
CATEGORIES:Craft
ORGANIZER;CN="Vision Loss Resources":MAILTO:rsvp@vlrw.org
END:VEVENT
BEGIN:VEVENT
DTSTART;TZID=America/Chicago:20190918T130000
DTEND;TZID=America/Chicago:20190918T153000
DTSTAMP:20260422T043151
CREATED:20190815T192350Z
LAST-MODIFIED:20190918T134038Z
UID:10000620-1568811600-1568820600@visionlossresources.org
SUMMARY:3Fs: Fabric\, Fiber\, and Friends
DESCRIPTION:Do you enjoy knitting\, crocheting\, quilting\, or creative hobbies? Then come in and bring your own project to work on as you enjoy the company of others. We donate many of our handmade items to local charities!
URL:https://visionlossresources.org/event/3fs-fabric-fiber-and-friends-7/
LOCATION:United States
CATEGORIES:Craft
ORGANIZER;CN="Vision Loss Resources":MAILTO:rsvp@vlrw.org
END:VEVENT
BEGIN:VEVENT
DTSTART;TZID=America/Chicago:20190918T111500
DTEND;TZID=America/Chicago:20190918T123000
DTSTAMP:20260422T043151
CREATED:20190815T192354Z
LAST-MODIFIED:20190918T134254Z
UID:10000760-1568805300-1568809800@visionlossresources.org
SUMMARY:Continuing Education
DESCRIPTION:Join us for an interesting presentation on how a retired couple turned their dream and passion into reality. Connie and Michael Wittek will join us to share their adventures on starting a family-run vineyard in their retirement. They will explain what it takes to grow grapes\, harvest them\, sell them to wineries\, as well as how they create their own wine from their grapes. There may even be some wine samples during this fun presentation. \nPlease RSVP for every event: call (612) 843-3439 or email rsvp@vlrw.org. \nLearn about VLR’s event policies and news.
URL:https://visionlossresources.org/event/continuing-education-3/
LOCATION:United States
CATEGORIES:Education
ORGANIZER;CN="Vision Loss Resources":MAILTO:rsvp@vlrw.org
END:VEVENT
BEGIN:VEVENT
DTSTART;TZID=America/Chicago:20190917T113000
DTEND;TZID=America/Chicago:20190917T133000
DTSTAMP:20260422T043151
CREATED:20190815T192354Z
LAST-MODIFIED:20190904T200647Z
UID:10000758-1568719800-1568727000@visionlossresources.org
SUMMARY:Lunch Bunch: Red Cow
DESCRIPTION:The last time we went to Red Cow was in 2016. This is a family-owned chain of restaurants with four in the Twin Cities. They are best known for their burgers: beef or turkey (Sharon K.’s recommendation!). They also have soups\, salads and other sandwiches\, tacos\, a yummy dessert menu\, and a full bar. Due to the size of our group\, gratuity is automatically added to each bill. Plan your rides for 1:30-1:45 pm. Space is limited. \nPlease RSVP for every event: call (612) 843-3439 or email rsvp@vlrw.org. \nLearn about VLR’s event policies and news.
URL:https://visionlossresources.org/event/lunch-bunch-red-cow-2/
CATEGORIES:Dining,Featured,Volunteers Needed
ORGANIZER;CN="Vision Loss Resources":MAILTO:rsvp@vlrw.org
END:VEVENT
BEGIN:VEVENT
DTSTART;TZID=America/Chicago:20190917T100000
DTEND;TZID=America/Chicago:20190917T120000
DTSTAMP:20260422T043151
CREATED:20190815T192354Z
LAST-MODIFIED:20190904T200650Z
UID:10000627-1568714400-1568721600@visionlossresources.org
SUMMARY:Tech 101: Podcasts
DESCRIPTION:Have you ever wondered what a podcast is? Join us at this class where we will learn about them! Please bring headphones or earbuds to class. \nPlease RSVP for every event: call (612) 843-3439 or email rsvp@vlrw.org. \nLearn about VLR’s event policies and news.
URL:https://visionlossresources.org/event/tech-101-podcasts-2/
LOCATION:United States
CATEGORIES:Tech
ORGANIZER;CN="Vision Loss Resources":MAILTO:rsvp@vlrw.org
END:VEVENT
BEGIN:VEVENT
DTSTART;TZID=America/Chicago:20190916T120000
DTEND;TZID=America/Chicago:20190916T140000
DTSTAMP:20260422T043151
CREATED:20190815T191336Z
LAST-MODIFIED:20190904T200713Z
UID:10000614-1568635200-1568642400@visionlossresources.org
SUMMARY:Cribbage
DESCRIPTION:Come in and enjoy some coffee and cards. \nPlease RSVP for every event: call (612) 843-3439 or email rsvp@vlrw.org. \nLearn about VLR’s event policies and news.
URL:https://visionlossresources.org/event/cribbage-4/
LOCATION:United States
CATEGORIES:Game
ORGANIZER;CN="Vision Loss Resources":MAILTO:rsvp@vlrw.org
END:VEVENT
BEGIN:VEVENT
DTSTART;TZID=America/Chicago:20190913T111500
DTEND;TZID=America/Chicago:20190913T121500
DTSTAMP:20260422T043151
CREATED:20190815T191336Z
LAST-MODIFIED:20190904T200717Z
UID:10000613-1568373300-1568376900@visionlossresources.org
SUMMARY:Flexibility Class
DESCRIPTION:Improve your flexibility and stability with gentle muscular stretches and myofascial self-release. Join us twice a month and learn exercises that you can practice at home. Range of motion\, stabilizing\, and muscle firming exercises will be practiced. Floor work is not required but highly encouraged. Bring a fitness mat\, a rolling pin\, and a tennis ball to receive the most beneficial workout. Space is limited. \nPlease RSVP for every event: call (612) 843-3439 or email rsvp@vlrw.org. \nLearn about VLR’s event policies and news.
URL:https://visionlossresources.org/event/flexibility-class-5/
LOCATION:United States
CATEGORIES:Featured,Fitness
ORGANIZER;CN="Vision Loss Resources":MAILTO:rsvp@vlrw.org
END:VEVENT
BEGIN:VEVENT
DTSTART;TZID=America/Chicago:20190912T103000
DTEND;TZID=America/Chicago:20190912T113000
DTSTAMP:20260422T043151
CREATED:20190815T191335Z
LAST-MODIFIED:20190904T200720Z
UID:10000612-1568284200-1568287800@visionlossresources.org
SUMMARY:Gardening and Goodies
DESCRIPTION:This will be the last meeting of our group for the season. We will be harvesting the remainder of the garden and prepping the area for winter. The Minnesota Master Gardeners will also be there to talk with us about gardening and answer any questions you may have! \nPlease RSVP for every event: call (612) 843-3439 or email rsvp@vlrw.org. \nLearn about VLR’s event policies and news.
URL:https://visionlossresources.org/event/gardening-and-goodies-5/
LOCATION:United States
CATEGORIES:Hobby,Outdoors
ORGANIZER;CN="Vision Loss Resources":MAILTO:rsvp@vlrw.org
END:VEVENT
BEGIN:VEVENT
DTSTART;TZID=America/Chicago:20190911T170000
DTEND;TZID=America/Chicago:20190911T190000
DTSTAMP:20260422T043151
CREATED:20190815T191335Z
LAST-MODIFIED:20190904T200723Z
UID:10000611-1568221200-1568228400@visionlossresources.org
SUMMARY:Bingo
DESCRIPTION:Everyone loves BINGO! Bring your friends and family for a night that is sure to be fun. \nPlease RSVP for every event: call (612) 843-3439 or email rsvp@vlrw.org. \nLearn about VLR’s event policies and news.
URL:https://visionlossresources.org/event/bingo-3/
LOCATION:United States
CATEGORIES:Game,Volunteers Needed
ORGANIZER;CN="Vision Loss Resources":MAILTO:rsvp@vlrw.org
END:VEVENT
BEGIN:VEVENT
DTSTART;TZID=America/Chicago:20190911T130000
DTEND;TZID=America/Chicago:20190911T153000
DTSTAMP:20260422T043151
CREATED:20190815T192350Z
LAST-MODIFIED:20190918T134302Z
UID:10000616-1568206800-1568215800@visionlossresources.org
SUMMARY:3Fs: Fabric\, Fiber\, and Friends
DESCRIPTION:Do you enjoy knitting\, crocheting\, quilting\, or creative hobbies? Then come in and bring your own project to work on as you enjoy the company of others. We donate many of our handmade items to local charities! \n\nPlease RSVP for every event: call (612) 843-3439 or email rsvp@vlrw.org. \nLearn about VLR’s event policies and news.
URL:https://visionlossresources.org/event/3fs-fabric-fiber-and-friends-5/2019-09-11/
LOCATION:United States
CATEGORIES:Craft
ORGANIZER;CN="Vision Loss Resources":MAILTO:rsvp@vlrw.org
END:VEVENT
BEGIN:VEVENT
DTSTART;TZID=America/Chicago:20190911T130000
DTEND;TZID=America/Chicago:20190911T143000
DTSTAMP:20260422T043151
CREATED:20190815T191335Z
LAST-MODIFIED:20190904T200747Z
UID:10000610-1568206800-1568212200@visionlossresources.org
SUMMARY:Reader's Choice Book Club
DESCRIPTION:For September we will be reading the book Up Country (DB053667) by Nelson DeMille. \nPlease RSVP for every event: call (612) 843-3439 or email rsvp@vlrw.org. \nLearn about VLR’s event policies and news.
URL:https://visionlossresources.org/event/readers-choice-book-club-3/
LOCATION:United States
CATEGORIES:Books
ORGANIZER;CN="Vision Loss Resources":MAILTO:rsvp@vlrw.org
END:VEVENT
BEGIN:VEVENT
DTSTART;TZID=America/Chicago:20190910T123000
DTEND;TZID=America/Chicago:20190910T144500
DTSTAMP:20260422T043151
CREATED:20190815T191335Z
LAST-MODIFIED:20190904T200854Z
UID:10000609-1568118600-1568126700@visionlossresources.org
SUMMARY:Movie Matinee: Hidden Figures
DESCRIPTION:Join us for popcorn and this 2016 award winning movie\, Hidden Figures (PG). It is a fitting choice for this 50th anniversary of the Apollo 11 moon landing. This is the story of a team of female African American mathematicians\, originally called “human computers\,” who served a vital role in NASA during the early days of the space program. A captivating and enlightening story. Starring Taraji P. Henson\, Octavia Spencer\, Janelle Monae\, Kevin Costner\, Kirsten Dunst\, Jim Parsons and Mahershala Ali. Please schedule rides for 2:45. \nPlease RSVP for every event: call (612) 843-3439 or email rsvp@vlrw.org. \nLearn about VLR’s event policies and news.
URL:https://visionlossresources.org/event/movie-matinee-hidden-figures/
LOCATION:United States
CATEGORIES:Movie
ORGANIZER;CN="Vision Loss Resources":MAILTO:rsvp@vlrw.org
END:VEVENT
BEGIN:VEVENT
DTSTART;TZID=America/Chicago:20190910T100000
DTEND;TZID=America/Chicago:20190910T120000
DTSTAMP:20260422T043151
CREATED:20190815T191335Z
LAST-MODIFIED:20190904T200858Z
UID:10000608-1568109600-1568116800@visionlossresources.org
SUMMARY:Adv. Tech: Accessing Entertainment
DESCRIPTION:At this class we will learn where to find audio described entertainment. Bring headphones or earbuds to class. \nPlease RSVP for every event: call (612) 843-3439 or email rsvp@vlrw.org. \nLearn about VLR’s event policies and news.
URL:https://visionlossresources.org/event/adv-tech-accessing-entertainment/
LOCATION:United States
CATEGORIES:Tech
ORGANIZER;CN="Vision Loss Resources":MAILTO:rsvp@vlrw.org
END:VEVENT
BEGIN:VEVENT
DTSTART;TZID=America/Chicago:20190909T120000
DTEND;TZID=America/Chicago:20190909T140000
DTSTAMP:20260422T043151
CREATED:20190815T191335Z
LAST-MODIFIED:20190904T200901Z
UID:10000607-1568030400-1568037600@visionlossresources.org
SUMMARY:Hearts
DESCRIPTION:Come in and enjoy some coffee and cards. \nPlease RSVP for every event: call (612) 843-3439 or email rsvp@vlrw.org. \nLearn about VLR’s event policies and news.
URL:https://visionlossresources.org/event/hearts-3/
LOCATION:United States
CATEGORIES:Game
ORGANIZER;CN="Vision Loss Resources":MAILTO:rsvp@vlrw.org
END:VEVENT
BEGIN:VEVENT
DTSTART;TZID=America/Chicago:20190909T100000
DTEND;TZID=America/Chicago:20190909T120000
DTSTAMP:20260422T043151
CREATED:20190815T191334Z
LAST-MODIFIED:20190904T200929Z
UID:10000606-1568023200-1568030400@visionlossresources.org
SUMMARY:Games Extravaganza
DESCRIPTION:Come for lively fun with board and trivia games. We’ll have time for games\, laughter\, conversation\, and a light snack. \nPlease RSVP for every event: call (612) 843-3439 or email rsvp@vlrw.org. \nLearn about VLR’s event policies and news.
URL:https://visionlossresources.org/event/games-extravaganza-3/
LOCATION:United States
CATEGORIES:Game,Volunteers Needed
ORGANIZER;CN="Vision Loss Resources":MAILTO:rsvp@vlrw.org
END:VEVENT
BEGIN:VEVENT
DTSTART;TZID=America/Chicago:20190909T090000
DTEND;TZID=America/Chicago:20190909T113000
DTSTAMP:20260422T043151
CREATED:20190815T191334Z
LAST-MODIFIED:20190918T134408Z
UID:10000605-1568019600-1568028600@visionlossresources.org
SUMMARY:Walking Group
DESCRIPTION:Come join your friends as we walk for an hour\, break for coffee and conversation\, then walk for another hour at your own pace\, paired with your own volunteer. It’s a fun\, easy way to get up and moving! Space is limited. We meet at Door 13\, Southdale Mall\, Edina. \nPlease RSVP for every event: call (612) 843-3439 or email rsvp@vlrw.org. \nLearn about VLR’s event policies and news.
URL:https://visionlossresources.org/event/walking-group-3/
CATEGORIES:Fitness,Volunteers Needed
ORGANIZER;CN="Vision Loss Resources":MAILTO:rsvp@vlrw.org
END:VEVENT
BEGIN:VEVENT
DTSTART;TZID=America/Chicago:20190906T121500
DTEND;TZID=America/Chicago:20190906T154500
DTSTAMP:20260422T043151
CREATED:20190815T192353Z
LAST-MODIFIED:20190904T200948Z
UID:10000625-1567772100-1567784700@visionlossresources.org
SUMMARY:Let's Go Fishing
DESCRIPTION:Join nine of your friends for catch and release fishing on Lake Riley in Eden Prairie\, the boat departs at 1 pm sharp. You’ll need to get your own fishing license in advance to fish. Get a free license with a current doctor’s statement saying you’re legally blind. If you’re over 90 you don’t need a license. Everyone will be signing a Liability & Photo Approval Release form to board the boat. Call the hotline for cancellations. Plan your pick-up rides for 3:30-3:45 pm. Space is limited.Please note: This is a prepay event. You must RSVP and pay for this activity by Thursday\, August 29th. For more information go to the Refund Policy at the end of calendar.\nAddress: 9300 Riley Lake Road\, Eden Prairie\, MN 55344 \nPlease RSVP for every event: call (612) 843-3439 or email rsvp@vlrw.org. \nLearn about VLR’s event policies and news.
URL:https://visionlossresources.org/event/lets-go-fishing-2/
CATEGORIES:Featured,Field Trip,Hobby,Outdoors
ORGANIZER;CN="Vision Loss Resources":MAILTO:rsvp@vlrw.org
END:VEVENT
BEGIN:VEVENT
DTSTART;TZID=America/Chicago:20190905T100000
DTEND;TZID=America/Chicago:20190905T120000
DTSTAMP:20260422T043151
CREATED:20190815T192352Z
LAST-MODIFIED:20190904T200939Z
UID:10000623-1567677600-1567684800@visionlossresources.org
SUMMARY:Cards 500
DESCRIPTION:Enjoy some coffee and cards. \nPlease RSVP for every event: call (612) 843-3439 or email rsvp@vlrw.org. \nLearn about VLR’s event policies and news.
URL:https://visionlossresources.org/event/cards-500-6/
LOCATION:United States
CATEGORIES:Game
ORGANIZER;CN="Vision Loss Resources":MAILTO:rsvp@vlrw.org
END:VEVENT
BEGIN:VEVENT
DTSTART;TZID=America/Chicago:20190904T160000
DTEND;TZID=America/Chicago:20190904T183000
DTSTAMP:20260422T043151
CREATED:20190815T192352Z
LAST-MODIFIED:20190904T201048Z
UID:10000622-1567612800-1567621800@visionlossresources.org
SUMMARY:Fantasy Football Draft
DESCRIPTION:Are you a Vikings fan? Do you love football? Join our 5th season of Fantasy Football draft picks! It’s a competition where participants select teams from the NFL players and score points based on their players performance and team each week. Try something new and fun! New owners are always welcome and the more people who join us the better! Call Renee W. at (612) 843-3403 with any questions. \nPlease RSVP for every event: call (612) 843-3439 or email rsvp@vlrw.org. \nLearn about VLR’s event policies and news.
URL:https://visionlossresources.org/event/fantasy-football-draft-2/
LOCATION:United States
CATEGORIES:Featured,Game
ORGANIZER;CN="Vision Loss Resources":MAILTO:rsvp@vlrw.org
END:VEVENT
END:VCALENDAR