BEGIN:VCALENDAR
VERSION:2.0
PRODID:-//Vision Loss Resources - ECPv6.15.19//NONSGML v1.0//EN
CALSCALE:GREGORIAN
METHOD:PUBLISH
X-WR-CALNAME:Vision Loss Resources
X-ORIGINAL-URL:https://visionlossresources.org
X-WR-CALDESC:Events for Vision Loss Resources
REFRESH-INTERVAL;VALUE=DURATION:PT1H
X-Robots-Tag:noindex
X-PUBLISHED-TTL:PT1H
BEGIN:VTIMEZONE
TZID:America/Chicago
BEGIN:DAYLIGHT
TZOFFSETFROM:-0600
TZOFFSETTO:-0500
TZNAME:CDT
DTSTART:20190310T080000
END:DAYLIGHT
BEGIN:STANDARD
TZOFFSETFROM:-0500
TZOFFSETTO:-0600
TZNAME:CST
DTSTART:20191103T070000
END:STANDARD
BEGIN:DAYLIGHT
TZOFFSETFROM:-0600
TZOFFSETTO:-0500
TZNAME:CDT
DTSTART:20200308T080000
END:DAYLIGHT
BEGIN:STANDARD
TZOFFSETFROM:-0500
TZOFFSETTO:-0600
TZNAME:CST
DTSTART:20201101T070000
END:STANDARD
BEGIN:DAYLIGHT
TZOFFSETFROM:-0600
TZOFFSETTO:-0500
TZNAME:CDT
DTSTART:20210314T080000
END:DAYLIGHT
BEGIN:STANDARD
TZOFFSETFROM:-0500
TZOFFSETTO:-0600
TZNAME:CST
DTSTART:20211107T070000
END:STANDARD
BEGIN:DAYLIGHT
TZOFFSETFROM:-0600
TZOFFSETTO:-0500
TZNAME:CDT
DTSTART:20220313T080000
END:DAYLIGHT
BEGIN:STANDARD
TZOFFSETFROM:-0500
TZOFFSETTO:-0600
TZNAME:CST
DTSTART:20221106T070000
END:STANDARD
END:VTIMEZONE
BEGIN:VEVENT
DTSTART;TZID=America/Chicago:20210831T180000
DTEND;TZID=America/Chicago:20210831T190000
DTSTAMP:20260419T153234
CREATED:20210725T140058Z
LAST-MODIFIED:20210921T211356Z
UID:10001126-1630432800-1630436400@visionlossresources.org
SUMMARY:Virtual Support Group
DESCRIPTION:Join the conversation in our Virtual Support Group! It is a safe and fun place to discuss everyday life\, share tips and tricks about how we live with vision loss and get to know each other. \n \nZoom Link: https://us06web.zoom.us/j/6207585513 \nZoom Call-in Number: (651) 372-8299  Meeting ID: 620 758 5513 \nZoom One Tap Mobile: +16513728299\,\,6207585513#
URL:https://visionlossresources.org/event/virtual-support-group-18/2021-08-31/
LOCATION:Online Only\, MN\, United States
CATEGORIES:Featured,Support Group
ORGANIZER;CN="Vision Loss Resources":MAILTO:rsvp@vlrw.org
END:VEVENT
BEGIN:VEVENT
DTSTART;TZID=America/Chicago:20210817T180000
DTEND;TZID=America/Chicago:20210817T190000
DTSTAMP:20260419T153234
CREATED:20210725T140006Z
LAST-MODIFIED:20210805T162332Z
UID:10001123-1629223200-1629226800@visionlossresources.org
SUMMARY:Virtual Support Group
DESCRIPTION:Join the conversation in our Virtual Support Group! It is a safe and fun place to discuss everyday life\, share tips and tricks about how we live with vision loss and get to know each other. \nZoom Link: https://us06web.zoom.us/j/6207585513 \nZoom Call-in Number: (651) 372-8299  Meeting ID: 620 758 5513 \nZoom One Tap Mobile: +16513728299\,\,6207585513#
URL:https://visionlossresources.org/event/virtual-support-group-17/
LOCATION:Online Only\, MN\, United States
CATEGORIES:Featured,Support Group
ORGANIZER;CN="Vision Loss Resources":MAILTO:rsvp@vlrw.org
END:VEVENT
BEGIN:VEVENT
DTSTART;TZID=America/Chicago:20210803T180000
DTEND;TZID=America/Chicago:20210803T190000
DTSTAMP:20260419T153234
CREATED:20210725T140011Z
LAST-MODIFIED:20210722T145434Z
UID:10001118-1628013600-1628017200@visionlossresources.org
SUMMARY:Virtual Support Group
DESCRIPTION:Join the conversation in our Virtual Support Group! It is a safe and fun place to discuss everyday life\, share tips and tricks about how we live with vision loss and get to know each other.
URL:https://visionlossresources.org/event/virtual-support-group-16/
LOCATION:Online Only\, MN\, United States
CATEGORIES:Featured,Support Group
ORGANIZER;CN="Vision Loss Resources":MAILTO:rsvp@vlrw.org
END:VEVENT
BEGIN:VEVENT
DTSTART;TZID=America/Chicago:20210713T180000
DTEND;TZID=America/Chicago:20210713T190000
DTSTAMP:20260419T153234
CREATED:20210628T150005Z
LAST-MODIFIED:20210624T153626Z
UID:10001105-1626199200-1626202800@visionlossresources.org
SUMMARY:Virtual Support Group
DESCRIPTION:Join the conversation in our Virtual Support Group! It is a safe and fun place to discuss everyday life\, share tips and tricks about how we live with vision loss and get to know each other. This group will only be meeting once this month. \nPlease see the top of the events page on this website for the Zoom information.
URL:https://visionlossresources.org/event/virtual-support-group-15/
LOCATION:Online Only\, MN\, United States
CATEGORIES:Featured,Support Group
ORGANIZER;CN="Vision Loss Resources":MAILTO:rsvp@vlrw.org
END:VEVENT
BEGIN:VEVENT
DTSTART;TZID=America/Chicago:20210623T180000
DTEND;TZID=America/Chicago:20210623T190000
DTSTAMP:20260419T153234
CREATED:20210523T120033Z
LAST-MODIFIED:20210514T133151Z
UID:10000870-1624471200-1624474800@visionlossresources.org
SUMMARY:Caregivers' Support Group
DESCRIPTION:Formerly known as Family and Friends Social Hour\, this time will be for family and friends of clients to get to know each other and learn new things. We encourage you to invite your friends and/or family members to join us so they can all gain support and learn new information about vision loss.\nTo join on your computer or smart phone\, select the link below. To call in\, dial the phone number and enter the meeting ID. If you have an iPhone\, select the One Tap Mobile number to connect. \nCaregivers’ Support Group link: https://zoom.us/j/97854094878 \nPhone number: (651) 372-8299 \nMeeting ID: 978 5409 4878 \nOne tap mobile: +16513728299\,\,97854094878#
URL:https://visionlossresources.org/event/caregivers-support-group-2/
LOCATION:Online Only\, MN\, United States
CATEGORIES:Featured,Support Group
ORGANIZER;CN="Vision Loss Resources":MAILTO:rsvp@vlrw.org
END:VEVENT
BEGIN:VEVENT
DTSTART;TZID=America/Chicago:20210622T180000
DTEND;TZID=America/Chicago:20210622T190000
DTSTAMP:20260419T153234
CREATED:20210523T120033Z
LAST-MODIFIED:20210514T130928Z
UID:10001095-1624384800-1624388400@visionlossresources.org
SUMMARY:Virtual Support Group
DESCRIPTION:Join the conversation in our Virtual Support Group! It is a safe and fun place to discuss everyday life\, share tips and tricks about how we live with vision loss and get to know each other.\nTo join on your computer or smart phone\, select the link below. To call in\, dial the phone number and enter the meeting ID. If you have an iPhone\, select the One Tap Mobile number to connect. \nSupport Group link: https://zoom.us/j/99339110839 \nPhone number: (651) 372-8299 \nMeeting ID: 993 3911 0839 \nOne tap mobile: +16513728299\,\,99339110839#
URL:https://visionlossresources.org/event/virtual-support-group-14/
LOCATION:Online Only\, MN\, United States
CATEGORIES:Featured,Support Group
ORGANIZER;CN="Vision Loss Resources":MAILTO:rsvp@vlrw.org
END:VEVENT
BEGIN:VEVENT
DTSTART;TZID=America/Chicago:20210608T180000
DTEND;TZID=America/Chicago:20210608T190000
DTSTAMP:20260419T153234
CREATED:20210523T120040Z
LAST-MODIFIED:20210514T130728Z
UID:10001094-1623175200-1623178800@visionlossresources.org
SUMMARY:Virtual Support Group
DESCRIPTION:Join the conversation in our Virtual Support Group! It is a safe and fun place to discuss everyday life\, share tips and tricks about how we live with vision loss and get to know each other. This group also meets on the 22nd.\nTo join on your computer or smart phone\, select the link below. To call in\, dial the phone number and enter the meeting ID. If you have an iPhone\, select the One Tap Mobile number to connect. \nSupport Group link: https://zoom.us/j/99339110839 \nPhone number: (651) 372-8299 \nMeeting ID: 993 3911 0839 \nOne tap mobile: +16513728299\,\,99339110839#
URL:https://visionlossresources.org/event/virtual-support-group-13/
LOCATION:Online Only\, MN\, United States
CATEGORIES:Featured,Support Group
ORGANIZER;CN="Vision Loss Resources":MAILTO:rsvp@vlrw.org
END:VEVENT
BEGIN:VEVENT
DTSTART;TZID=America/Chicago:20210526T180000
DTEND;TZID=America/Chicago:20210526T190000
DTSTAMP:20260419T153234
CREATED:20210425T120010Z
LAST-MODIFIED:20210423T141147Z
UID:10001089-1622052000-1622055600@visionlossresources.org
SUMMARY:Caregivers' Support Group
DESCRIPTION:Formerly known as Family and Friends Social Hour\, this time will be for family and friends of clients to get to know each other and learn new things. We encourage you to invite your friends and/or family members to join us so they can all gain support and learn new information about vision loss.\nTo join on your computer or smart phone\, select the link below. To call in\, dial the phone number and enter the meeting ID. If you have an iPhone\, select the One Tap Mobile number to connect. \nCaregivers’ Support Group link: https://zoom.us/j/97854094878 \nPhone number: (651) 372-8299 \nMeeting ID: 978 5409 4878 \nOne tap mobile: +16513728299\,\,97854094878#
URL:https://visionlossresources.org/event/caregivers-support-group/
LOCATION:Online Only\, MN\, United States
CATEGORIES:Featured,Support Group
ORGANIZER;CN="Vision Loss Resources":MAILTO:rsvp@vlrw.org
END:VEVENT
BEGIN:VEVENT
DTSTART;TZID=America/Chicago:20210525T180000
DTEND;TZID=America/Chicago:20210525T190000
DTSTAMP:20260419T153234
CREATED:20210512T203146Z
LAST-MODIFIED:20210512T203146Z
UID:10001091-1621965600-1621969200@visionlossresources.org
SUMMARY:Virtual Support Group
DESCRIPTION:Join the conversation in our Virtual Support Group! It is a safe and fun place to discuss everyday life\, share tips and tricks about how we live with vision loss and get to know each other.\nTo join on your computer or smart phone\, select the link below. To call in\, dial the phone number and enter the meeting ID. If you have an iPhone\, select the One Tap Mobile number to connect. \nSupport Group link: https://zoom.us/j/99339110839 \nPhone number: (651) 372-8299 \nMeeting ID: 993 3911 0839 \nOne tap mobile: +16513728299\,\,99339110839#
URL:https://visionlossresources.org/event/virtual-support-group-12/
LOCATION:Online Only\, MN\, United States
CATEGORIES:Featured,Support Group
ORGANIZER;CN="Vision Loss Resources":MAILTO:rsvp@vlrw.org
END:VEVENT
BEGIN:VEVENT
DTSTART;TZID=America/Chicago:20210511T180000
DTEND;TZID=America/Chicago:20210511T190000
DTSTAMP:20260419T153234
CREATED:20210425T120029Z
LAST-MODIFIED:20210422T212831Z
UID:10001079-1620756000-1620759600@visionlossresources.org
SUMMARY:Virtual Support Group
DESCRIPTION:Join the conversation in our Virtual Support Group! It is a safe and fun place to discuss everyday life\, share tips and tricks about how we live with vision loss and get to know each other. This group also meets on the 25th.\nTo join on your computer or smart phone\, select the link below. To call in\, dial the phone number and enter the meeting ID. If you have an iPhone\, select the One Tap Mobile number to connect. \nSupport Group link: https://zoom.us/j/99339110839 \nPhone number: (651) 372-8299 \nMeeting ID: 993 3911 0839 \nOne tap mobile: +16513728299\,\,99339110839#
URL:https://visionlossresources.org/event/virtual-support-group-10/
LOCATION:Online Only\, MN\, United States
CATEGORIES:Featured,Support Group
ORGANIZER;CN="Vision Loss Resources":MAILTO:rsvp@vlrw.org
END:VEVENT
BEGIN:VEVENT
DTSTART;TZID=America/Chicago:20210428T180000
DTEND;TZID=America/Chicago:20210428T190000
DTSTAMP:20260419T153234
CREATED:20210328T120033Z
LAST-MODIFIED:20210322T211315Z
UID:10001075-1619632800-1619636400@visionlossresources.org
SUMMARY:Family and Friends Social Hour
DESCRIPTION:Join us for a fun hour of getting to know each other and learning new things. We encourage you to bring along a friend or family member so we can all gain support and learn new information about vision loss. \nTo join on your computer or smart phone\, select the link below. To call in\, dial the phone number and enter the meeting ID. If you have an iPhone\, select the One Tap Mobile number to connect. \nSocial Hour link: https://zoom.us/j/97854094878 \nPhone number: (651) 372-8299 \nMeeting ID: 978 5409 4878 \nOne tap mobile: +16513728299\,\,97854094878#
URL:https://visionlossresources.org/event/family-and-friends-social-hour-2/
LOCATION:Online Only\, MN\, United States
CATEGORIES:Featured,Support Group
ORGANIZER;CN="Vision Loss Resources":MAILTO:rsvp@vlrw.org
END:VEVENT
BEGIN:VEVENT
DTSTART;TZID=America/Chicago:20210427T180000
DTEND;TZID=America/Chicago:20210427T190000
DTSTAMP:20260419T153234
CREATED:20210328T120033Z
LAST-MODIFIED:20210322T210817Z
UID:10001073-1619546400-1619550000@visionlossresources.org
SUMMARY:Virtual Support Group
DESCRIPTION:Join the conversation in our Virtual Support Group! It is a safe and fun place to discuss everyday life\, share tips and tricks about how we live with vision loss and get to know each other. \nTo join on your computer or smart phone\, select the link below. To call in\, dial the phone number and enter the meeting ID. If you have an iPhone\, select the One Tap Mobile number to connect. \nSupport Group link: https://zoom.us/j/99339110839 \nPhone number: (651) 372-8299 \nMeeting ID: 993 3911 0839 \nOne tap mobile: +16513728299\,\,99339110839#
URL:https://visionlossresources.org/event/virtual-support-group-9/
LOCATION:Online Only\, MN\, United States
CATEGORIES:Featured,Support Group
ORGANIZER;CN="Vision Loss Resources":MAILTO:rsvp@vlrw.org
END:VEVENT
BEGIN:VEVENT
DTSTART;TZID=America/Chicago:20210413T180000
DTEND;TZID=America/Chicago:20210413T190000
DTSTAMP:20260419T153234
CREATED:20210328T120002Z
LAST-MODIFIED:20210322T204110Z
UID:10000832-1618336800-1618340400@visionlossresources.org
SUMMARY:Virtual Support Group
DESCRIPTION:Join the conversation in our Virtual Support Group! It is a safe and fun place to discuss everyday life\, share tips and tricks about how we live with vision loss and get to know each other. This group also meets on the 27th. \nTo join on your computer or smart phone\, select the link below. To call in\, dial the phone number and enter the meeting ID. If you have an iPhone\, select the One Tap Mobile number to connect. \nSupport Group link: https://zoom.us/j/99339110839 \nPhone number: (651) 372-8299 \nMeeting ID: 993 3911 0839 \nOne tap mobile: +16513728299\,\,99339110839#
URL:https://visionlossresources.org/event/virtual-support-group-8/
LOCATION:Online Only\, MN\, United States
CATEGORIES:Featured,Support Group
ORGANIZER;CN="Vision Loss Resources":MAILTO:rsvp@vlrw.org
END:VEVENT
BEGIN:VEVENT
DTSTART;TZID=America/Chicago:20210323T180000
DTEND;TZID=America/Chicago:20210323T190000
DTSTAMP:20260419T153234
CREATED:20210222T130030Z
LAST-MODIFIED:20210219T150644Z
UID:10001060-1616522400-1616526000@visionlossresources.org
SUMMARY:Virtual Support Group
DESCRIPTION:Join the conversation in our Virtual Support Group! It is a safe and fun place to discuss everyday life\, share tips and tricks about how we live with vision loss and get to know each other. \nTo join on your computer or smart phone\, select the link below. To call in\, dial the phone number and enter the meeting ID. If you have an iPhone\, select the One Tap Mobile number to connect. \nSupport Group link: https://zoom.us/j/99339110839 \nPhone number:  (651) 372-8299 \nMeeting ID:  993 3911 0839 \nOne tap mobile: +16513728299\,\,99339110839#
URL:https://visionlossresources.org/event/virtual-support-group-7/
LOCATION:Online Only\, MN\, United States
CATEGORIES:Featured,Support Group
ORGANIZER;CN="Vision Loss Resources":MAILTO:rsvp@vlrw.org
END:VEVENT
BEGIN:VEVENT
DTSTART;TZID=America/Chicago:20210309T180000
DTEND;TZID=America/Chicago:20210309T190000
DTSTAMP:20260419T153234
CREATED:20210222T130001Z
LAST-MODIFIED:20210219T143203Z
UID:10001052-1615312800-1615316400@visionlossresources.org
SUMMARY:Virtual Support Group
DESCRIPTION:Join the conversation in our Virtual Support Group! It is a safe and fun place to discuss everyday life\, share tips and tricks about how we live with vision loss and get to know each other.  This group also meets on the 23rd. \nTo join on your computer or smart phone\, select the link below. To call in\, dial the phone number and enter the meeting ID. If you have an iPhone\, select the One Tap Mobile number to connect. \nSupport Group link: https://zoom.us/j/99339110839 \nPhone number:  (651) 372-8299 \nMeeting ID:  993 3911 0839 \nOne tap mobile: +16513728299\,\,99339110839#
URL:https://visionlossresources.org/event/virtual-support-group-6/
LOCATION:Online Only\, MN\, United States
CATEGORIES:Featured,Support Group
ORGANIZER;CN="Vision Loss Resources":MAILTO:rsvp@vlrw.org
END:VEVENT
BEGIN:VEVENT
DTSTART;TZID=America/Chicago:20210223T180000
DTEND;TZID=America/Chicago:20210223T190000
DTSTAMP:20260419T153234
CREATED:20210125T122142Z
LAST-MODIFIED:20210125T122142Z
UID:10000806-1614103200-1614106800@visionlossresources.org
SUMMARY:Support Group
DESCRIPTION:Join the conversation in our Virtual Support Group! It is a safe and fun place to discuss everyday life\, share tips and tricks about how we live with vision loss and get to know each other. To join on your computer or smart phone\, select the link below. To call in\, dial the phone number and enter the meeting ID. If you have an iPhone\, select the One Tap Mobile number to connect.\n2/23 Support Group link: https://zoom.us/j/95734235806\nPhone number: (651) 372-8299\nMeeting ID: 957 3423 5806\nOne tap mobile: +16513728299\,\,95734235806#
URL:https://visionlossresources.org/event/support-group-6/
LOCATION:Online Only\, MN\, United States
CATEGORIES:Featured,Support Group
ORGANIZER;CN="Vision Loss Resources":MAILTO:rsvp@vlrw.org
END:VEVENT
BEGIN:VEVENT
DTSTART;TZID=America/Chicago:20210209T180000
DTEND;TZID=America/Chicago:20210209T190000
DTSTAMP:20260419T153234
CREATED:20210125T120553Z
LAST-MODIFIED:20210125T120553Z
UID:10001047-1612893600-1612897200@visionlossresources.org
SUMMARY:Virtual Support Group
DESCRIPTION:Join the conversation in our Virtual Support Group! It is a safe and fun place to discuss everyday life\, share tips and tricks about how we live with vision loss and get to know each other. This group also meets on the 23rd. To join on your computer or smart phone\, select the link below. To call in\, dial the phone number and enter the meeting ID. If you have an iPhone\, select the One Tap Mobile number to connect.\n2/9 Support Group link: https://zoom.us/j/94261825217\nPhone number: (651) 372-8299\nMeeting ID: 942 6182 5217\nOne tap mobile: +16513728299\,\,94261825217#
URL:https://visionlossresources.org/event/virtual-support-group-5/
LOCATION:Online Only\, MN\, United States
CATEGORIES:Featured,Support Group
ORGANIZER;CN="Vision Loss Resources":MAILTO:rsvp@vlrw.org
END:VEVENT
BEGIN:VEVENT
DTSTART;TZID=America/Chicago:20210126T180000
DTEND;TZID=America/Chicago:20210126T190000
DTSTAMP:20260419T153234
CREATED:20201228T130019Z
LAST-MODIFIED:20201223T181659Z
UID:10000802-1611684000-1611687600@visionlossresources.org
SUMMARY:Virtual Support Group
DESCRIPTION:Join the conversation in our Virtual Support Group! It is a safe and fun place to discuss everyday life\, share tips and tricks about how we live with vision loss and get to know each other. \nTo join on your computer or smart phone\, select the link below. To call in\, dial the phone number and enter the meeting ID. If you have an iPhone\, select the One Tap Mobile number to connect. \n1/26 Support Group link:  https://zoom.us/j/92910455135 \nPhone number:  (651) 372-8299 \nMeeting ID: 929 1045 5135 \nOne tap mobile:  +16513728299\,\,92910455135#
URL:https://visionlossresources.org/event/virtual-support-group-4/
LOCATION:Online Only\, MN\, United States
CATEGORIES:Featured,Support Group
ORGANIZER;CN="Vision Loss Resources":MAILTO:rsvp@vlrw.org
END:VEVENT
BEGIN:VEVENT
DTSTART;TZID=America/Chicago:20210112T180000
DTEND;TZID=America/Chicago:20210112T190000
DTSTAMP:20260419T153234
CREATED:20201228T130046Z
LAST-MODIFIED:20201223T172523Z
UID:10000795-1610474400-1610478000@visionlossresources.org
SUMMARY:Virtual Support Group
DESCRIPTION:Join the conversation in our Virtual Support Group! It is a safe and fun place to discuss everyday life\, share tips and tricks about how we live with vision loss and get to know each other.  This group also meets on the 26th. \nTo join on your computer or smart phone\, select the link below. To call in\, dial the phone number and enter the meeting ID. If you have an iPhone\, select the One Tap Mobile number to connect. \n1/12 Support Group link:  https://zoom.us/j/95844830928 \nPhone number:  (651) 372-8299 \nMeeting ID: 958 4483 0928 \nOne tap mobile:  +16513728299\,\,95844830928#
URL:https://visionlossresources.org/event/virtual-support-group-3/
LOCATION:Online Only\, MN\, United States
CATEGORIES:Featured,Support Group
ORGANIZER;CN="Vision Loss Resources":MAILTO:rsvp@vlrw.org
END:VEVENT
BEGIN:VEVENT
DTSTART;TZID=America/Chicago:20201222T180000
DTEND;TZID=America/Chicago:20201222T190000
DTSTAMP:20260419T153234
CREATED:20201123T130038Z
LAST-MODIFIED:20201120T193633Z
UID:10000790-1608660000-1608663600@visionlossresources.org
SUMMARY:Virtual Support Group
DESCRIPTION:Join the conversation in our Virtual Support Group! It is a safe and fun place to discuss everyday life\, share tips and tricks about how we live with vision loss and get to know each other. \nTo join\, click on the Zoom link below or dial the phone number and enter the meeting ID: \nhttps://zoom.us/j/98484541199 \n(651) 372-8299 \nMeeting ID: 984 8454 1199 \nOne tap mobile: +16513728299\,\,98484541199#
URL:https://visionlossresources.org/event/virtual-support-group-2/
LOCATION:Online Only\, MN\, United States
CATEGORIES:Featured,Support Group
ORGANIZER;CN="Vision Loss Resources":MAILTO:rsvp@vlrw.org
END:VEVENT
BEGIN:VEVENT
DTSTART;TZID=America/Chicago:20201208T180000
DTEND;TZID=America/Chicago:20201208T190000
DTSTAMP:20260419T153234
CREATED:20201123T130007Z
LAST-MODIFIED:20201120T193532Z
UID:10000789-1607450400-1607454000@visionlossresources.org
SUMMARY:Virtual Support Group
DESCRIPTION:Join the conversation in our Virtual Support Group! It is a safe and fun place to discuss everyday life\, share tips and tricks about how we live with vision loss and get to know each other.  This group also meets on the 22nd. \nTo join\, click on the Zoom link below or dial the phone number and enter the meeting ID: \nhttps://zoom.us/j/98484541199 \n(651) 372-8299 \nMeeting ID: 984 8454 1199 \nOne tap mobile: +16513728299\,\,98484541199#
URL:https://visionlossresources.org/event/3668/
LOCATION:Online Only\, MN\, United States
CATEGORIES:Featured,Support Group
ORGANIZER;CN="Vision Loss Resources":MAILTO:rsvp@vlrw.org
END:VEVENT
BEGIN:VEVENT
DTSTART;TZID=America/Chicago:20201124T180000
DTEND;TZID=America/Chicago:20201124T190000
DTSTAMP:20260419T153234
CREATED:20201026T150029Z
LAST-MODIFIED:20201022T193635Z
UID:10000784-1606240800-1606244400@visionlossresources.org
SUMMARY:Support Group
DESCRIPTION:Join the conversation in our Virtual Support Group! It is a safe and fun place to discuss everyday life\, share tips and tricks about how we live with vision loss and get to know each other.\nTo join\, click on the Zoom link below or dial the phone number and enter the meeting ID:\nhttps://zoom.us/j/93724690244\n(312) 626-6799\nMeeting ID: 937 2469 0244\nOne tap mobile: +13126266799\,\,93724690244#
URL:https://visionlossresources.org/event/support-group-5/
LOCATION:Zoom
CATEGORIES:Featured,Support Group
ORGANIZER;CN="Vision Loss Resources":MAILTO:rsvp@vlrw.org
END:VEVENT
BEGIN:VEVENT
DTSTART;TZID=America/Chicago:20201110T180000
DTEND;TZID=America/Chicago:20201110T190000
DTSTAMP:20260419T153234
CREATED:20201026T150021Z
LAST-MODIFIED:20201022T190655Z
UID:10001023-1605031200-1605034800@visionlossresources.org
SUMMARY:Support Group
DESCRIPTION:Join the conversation in our Virtual Support Group! It is a safe and fun place to discuss everyday life\, share tips and tricks about how we live with vision loss and get to know each other. This group also meets on the 24th.\nTo join\, click on the Zoom link below or dial the phone number and enter the meeting ID:\nhttps://zoom.us/j/93272287500\n(312) 626-6799\nMeeting ID: 932 7228 7500\nOne tap mobile: +13126266799\,\,93272287500#
URL:https://visionlossresources.org/event/support-group-4/
LOCATION:Zoom
CATEGORIES:Featured,Support Group
ORGANIZER;CN="Vision Loss Resources":MAILTO:rsvp@vlrw.org
END:VEVENT
BEGIN:VEVENT
DTSTART;TZID=America/Chicago:20201027T180000
DTEND;TZID=America/Chicago:20201027T190000
DTSTAMP:20260419T153234
CREATED:20200928T150042Z
LAST-MODIFIED:20200925T133721Z
UID:10001016-1603821600-1603825200@visionlossresources.org
SUMMARY:Support Group
DESCRIPTION:Join the conversation in our Virtual Support Group! It is a safe and fun place to discuss everyday life\, share tips and tricks about how we live with vision loss and get to know each other. \nTo join\, click on the Zoom link below or dial the phone number and enter the meeting ID: \nhttps://zoom.us/j/94873749624 \n(312) 626-6799 \nMeeting ID: 948 7374 9624 \nOne tap mobile: +13126266799\,\,94873749624#
URL:https://visionlossresources.org/event/support-group-3/
LOCATION:Online Only\, MN\, United States
CATEGORIES:Featured,Support Group
ORGANIZER;CN="Vision Loss Resources":MAILTO:rsvp@vlrw.org
END:VEVENT
BEGIN:VEVENT
DTSTART;TZID=America/Chicago:20201013T180000
DTEND;TZID=America/Chicago:20201013T193000
DTSTAMP:20260419T153234
CREATED:20200928T150010Z
LAST-MODIFIED:20200925T135339Z
UID:10001009-1602612000-1602617400@visionlossresources.org
SUMMARY:Support Group: Special Session
DESCRIPTION:Join the conversation in our Virtual Support Group! This will be a special session about Resilience\, with Speaker and Coach for Introvert-Extrovert Communication and Collaboration\, Lynnette Crane. This group also meets on the 27th. \nTo join\, click on the Zoom link below or dial the phone number and enter the meeting ID and passcode: \nhttps://zoom.us/j/99797618857?pwd=eUlsbUxMd2VORW5YZ0hHMG40NHdKQT09 \n(312) 626-6799 \nMeeting ID: 997 9761 8857 \nPasscode: 976802 \nOne tap mobile: +13017158592\,\,99797618857#\,\,\,\,\,\,0#\,\,976802#
URL:https://visionlossresources.org/event/support-group-special-session/
LOCATION:Online Only\, MN\, United States
CATEGORIES:Featured,Support Group
ORGANIZER;CN="Vision Loss Resources":MAILTO:rsvp@vlrw.org
END:VEVENT
BEGIN:VEVENT
DTSTART;TZID=America/Chicago:20200922T180000
DTEND;TZID=America/Chicago:20200922T190000
DTSTAMP:20260419T153234
CREATED:20200824T150024Z
LAST-MODIFIED:20200824T164443Z
UID:10001001-1600797600-1600801200@visionlossresources.org
SUMMARY:Support Group
DESCRIPTION:Join the conversation in our Virtual Support Group! It is a safe and fun place to discuss everyday life\, share tips and tricks about how we live with vision loss and get to know each other. \nTo join\, click on the Zoom link below or dial the phone number and enter the meeting ID: \nhttps://zoom.us/j/97501481365 \n(312) 626-6799 \nMeeting ID:  975 0148 1365 \nOne tap mobile: +13126266799\,\,97501481365#
URL:https://visionlossresources.org/event/support-group-2/
LOCATION:MN
CATEGORIES:Support Group
ORGANIZER;CN="Vision Loss Resources":MAILTO:rsvp@vlrw.org
END:VEVENT
BEGIN:VEVENT
DTSTART;TZID=America/Chicago:20200908T180000
DTEND;TZID=America/Chicago:20200908T190000
DTSTAMP:20260419T153234
CREATED:20200824T150039Z
LAST-MODIFIED:20200821T172620Z
UID:10000990-1599588000-1599591600@visionlossresources.org
SUMMARY:Support Group
DESCRIPTION:Join the conversation in our Virtual Support Group! It is a safe and fun place to discuss everyday life\, share tips and tricks about how we live with vision loss and get to know each other. This group also meets on the 22nd. \nTo join\, click on the Zoom link below or dial the phone number and enter the meeting ID:\nhttps://zoom.us/j/91272673604\n(312) 626-6799\nMeeting ID: 912 7267 3604\nOne tap mobile: +13126266799\,\,91272673604#
URL:https://visionlossresources.org/event/support-group/
LOCATION:MN\, United States
CATEGORIES:Featured,Support Group
ORGANIZER;CN="Vision Loss Resources":MAILTO:rsvp@vlrw.org
END:VEVENT
BEGIN:VEVENT
DTSTART;TZID=America/Chicago:20200825T180000
DTEND;TZID=America/Chicago:20200825T190000
DTSTAMP:20260419T153234
CREATED:20200730T131714Z
LAST-MODIFIED:20200731T173324Z
UID:10000757-1598378400-1598382000@visionlossresources.org
SUMMARY:Virtual Support Group
DESCRIPTION:Join the conversation in our Virtual Support Group! It is a safe and fun place to discuss everyday life\, share tips and tricks about how we live with vision loss\, and get to know each other. To learn about our new evening support group\, email Renee at rwaclaw@vlrw.org or call her at (612) 843-3403.
URL:https://visionlossresources.org/event/virtual-support-group/2020-08-25/
LOCATION:MN\, United States
CATEGORIES:Featured,Support Group
ORGANIZER;CN="Vision Loss Resources":MAILTO:rsvp@vlrw.org
END:VEVENT
BEGIN:VEVENT
DTSTART;TZID=America/Chicago:20200811T180000
DTEND;TZID=America/Chicago:20200811T190000
DTSTAMP:20260419T153234
CREATED:20200730T131714Z
LAST-MODIFIED:20200731T173324Z
UID:10000756-1597168800-1597172400@visionlossresources.org
SUMMARY:Virtual Support Group
DESCRIPTION:Join the conversation in our Virtual Support Group! It is a safe and fun place to discuss everyday life\, share tips and tricks about how we live with vision loss\, and get to know each other. To learn about our new evening support group\, email Renee at rwaclaw@vlrw.org or call her at (612) 843-3403.
URL:https://visionlossresources.org/event/virtual-support-group/2020-08-11/
LOCATION:MN\, United States
CATEGORIES:Featured,Support Group
ORGANIZER;CN="Vision Loss Resources":MAILTO:rsvp@vlrw.org
END:VEVENT
END:VCALENDAR