BEGIN:VCALENDAR
VERSION:2.0
PRODID:-//Vision Loss Resources - ECPv6.15.19//NONSGML v1.0//EN
CALSCALE:GREGORIAN
METHOD:PUBLISH
X-ORIGINAL-URL:https://visionlossresources.org
X-WR-CALDESC:Events for Vision Loss Resources
REFRESH-INTERVAL;VALUE=DURATION:PT1H
X-Robots-Tag:noindex
X-PUBLISHED-TTL:PT1H
BEGIN:VTIMEZONE
TZID:America/Chicago
BEGIN:DAYLIGHT
TZOFFSETFROM:-0600
TZOFFSETTO:-0500
TZNAME:CDT
DTSTART:20180311T080000
END:DAYLIGHT
BEGIN:STANDARD
TZOFFSETFROM:-0500
TZOFFSETTO:-0600
TZNAME:CST
DTSTART:20181104T070000
END:STANDARD
BEGIN:DAYLIGHT
TZOFFSETFROM:-0600
TZOFFSETTO:-0500
TZNAME:CDT
DTSTART:20190310T080000
END:DAYLIGHT
BEGIN:STANDARD
TZOFFSETFROM:-0500
TZOFFSETTO:-0600
TZNAME:CST
DTSTART:20191103T070000
END:STANDARD
BEGIN:DAYLIGHT
TZOFFSETFROM:-0600
TZOFFSETTO:-0500
TZNAME:CDT
DTSTART:20200308T080000
END:DAYLIGHT
BEGIN:STANDARD
TZOFFSETFROM:-0500
TZOFFSETTO:-0600
TZNAME:CST
DTSTART:20201101T070000
END:STANDARD
END:VTIMEZONE
BEGIN:VTIMEZONE
TZID:Africa/Abidjan
BEGIN:STANDARD
TZOFFSETFROM:+0000
TZOFFSETTO:+0000
TZNAME:GMT
DTSTART:20180101T000000
END:STANDARD
END:VTIMEZONE
BEGIN:VEVENT
DTSTART;TZID=America/Chicago:20191227T100000
DTEND;TZID=America/Chicago:20191227T120000
DTSTAMP:20260422T215405
CREATED:20191125T194033Z
LAST-MODIFIED:20191220T192750Z
UID:10000915-1577440800-1577448000@visionlossresources.org
SUMMARY:Pottery
DESCRIPTION:Join us as we work on hand-built clay projects. Come make plates\, cups\, or create whatever comes to the imagination. No experience necessary. Space is limited.
URL:https://visionlossresources.org/event/pottery-7/
LOCATION:MN\, United States
CATEGORIES:Craft,Featured,Volunteers Needed
END:VEVENT
BEGIN:VEVENT
DTSTART;TZID=America/Chicago:20191220T111500
DTEND;TZID=America/Chicago:20191220T121500
DTSTAMP:20260422T215405
CREATED:20191125T194028Z
LAST-MODIFIED:20191202T175033Z
UID:10000882-1576840500-1576844100@visionlossresources.org
SUMMARY:Flexibility Class
DESCRIPTION:Improve your flexibility and stability with gentle muscular stretches and myofascial self-release. Join us twice a month and learn exercises that you can practice at home. Range of motion\, stabilizing\, and muscle firming exercises will be practiced. Floor work is not required but highly encouraged. Bring a fitness mat\, a rolling pin\, and a tennis ball to receive the most beneficial workout. Space is limited.
URL:https://visionlossresources.org/event/flexibility-class-9/2019-12-20/
LOCATION:MN\, United States
CATEGORIES:Featured,Fitness
END:VEVENT
BEGIN:VEVENT
DTSTART;TZID=America/Chicago:20191219T173000
DTEND;TZID=America/Chicago:20191219T190000
DTSTAMP:20260422T215405
CREATED:20191125T194021Z
LAST-MODIFIED:20191202T175034Z
UID:10000867-1576776600-1576782000@visionlossresources.org
SUMMARY:Learning Spanish
DESCRIPTION:Would you like to communicate with Spanish speakers in your community\, at work and when you travel? Then this class is for you. We have an opportunity to learn basic Spanish over a period of five Thursdays in November and December. Our instructor\, Iris M.\, is a native Spanish speaker and in her country of origin\, she taught English as a second language. In Minnesota she has worked as a Spanish instructor. You are encouraged to attend all five classes and need to pay in full at the first session. At the end of the five-week period we will consider your interest in pursuing more advanced classes. Please plan your rides for 7 pm. Space is limited.
URL:https://visionlossresources.org/event/learning-spanish-3/2019-12-19/
LOCATION:MN\, United States
CATEGORIES:Education,Featured
END:VEVENT
BEGIN:VEVENT
DTSTART;TZID=America/Chicago:20191219T130000
DTEND;TZID=America/Chicago:20191219T150000
DTSTAMP:20260422T215405
CREATED:20191125T194032Z
LAST-MODIFIED:20191202T175033Z
UID:10000911-1576760400-1576767600@visionlossresources.org
SUMMARY:Craft: Gift Wrap Social
DESCRIPTION:We are trying something new. We will provide all the wrapping paper/gift bags\, gift tags and ribbons for whatever you need. You bring your gifts to wrap. We will teach you how to do this with five gifts that you plan to give for the holidays. We encourage you to bring what you can carry\, so consider the sizes and weights. When wrapped these gifts should fit in a tote bag or two. Space is limited. Please arrange your return rides for 3:00 to 3:15 pm.
URL:https://visionlossresources.org/event/craft-gift-wrap-social-2/
LOCATION:MN\, United States
CATEGORIES:Craft,Featured,Volunteers Needed
END:VEVENT
BEGIN:VEVENT
DTSTART;TZID=America/Chicago:20191217T100000
DTEND;TZID=America/Chicago:20191217T120000
DTSTAMP:20260422T215405
CREATED:20191125T194030Z
LAST-MODIFIED:20191202T175033Z
UID:10000884-1576576800-1576584000@visionlossresources.org
SUMMARY:Tech 101: Everyday Apps
DESCRIPTION:We will talk about everyday useful apps such as weather\, travel and transportation. Please bring headphones or earbuds to class.
URL:https://visionlossresources.org/event/tech-101-everyday-apps-2/
LOCATION:MN\, United States
CATEGORIES:Featured,Tech
END:VEVENT
BEGIN:VEVENT
DTSTART;TZID=America/Chicago:20191213T111500
DTEND;TZID=America/Chicago:20191213T121500
DTSTAMP:20260422T215405
CREATED:20191125T194028Z
LAST-MODIFIED:20191202T175033Z
UID:10000881-1576235700-1576239300@visionlossresources.org
SUMMARY:Flexibility Class
DESCRIPTION:Improve your flexibility and stability with gentle muscular stretches and myofascial self-release. Join us twice a month and learn exercises that you can practice at home. Range of motion\, stabilizing\, and muscle firming exercises will be practiced. Floor work is not required but highly encouraged. Bring a fitness mat\, a rolling pin\, and a tennis ball to receive the most beneficial workout. Space is limited.
URL:https://visionlossresources.org/event/flexibility-class-9/2019-12-13/
LOCATION:MN\, United States
CATEGORIES:Featured,Fitness
END:VEVENT
BEGIN:VEVENT
DTSTART;TZID=America/Chicago:20191211T130000
DTEND;TZID=America/Chicago:20191211T143000
DTSTAMP:20260422T215405
CREATED:20191125T194026Z
LAST-MODIFIED:20191202T175204Z
UID:10000878-1576069200-1576074600@visionlossresources.org
SUMMARY:Reader's Choice Book Club
DESCRIPTION:For December we will be reading the book The Wright Brothers (DB082175) by David G. McCullough.
URL:https://visionlossresources.org/event/readers-choice-book-club-7/
LOCATION:MN\, United States
CATEGORIES:Books,Featured
END:VEVENT
BEGIN:VEVENT
DTSTART;TZID=America/Chicago:20191206T130000
DTEND;TZID=America/Chicago:20191206T143000
DTSTAMP:20260422T215405
CREATED:20191125T194024Z
LAST-MODIFIED:20191203T225744Z
UID:10000869-1575637200-1575642600@visionlossresources.org
SUMMARY:Cookie Exchange
DESCRIPTION:This year our annual cookie exchange will take place in our St. Paul office. Please bring two dozen (24) cookies to exchange then you will have two dozen assorted cookies to take home with you.We hope to have a great turnout for this festive holiday gathering! Space is limited. Please schedule your rides from 2:30 to 2:35.
URL:https://visionlossresources.org/event/cookie-exchange-and-annual-bake-off-2/
LOCATION:MN\, United States
CATEGORIES:Featured,Party,Volunteers Needed
END:VEVENT
BEGIN:VEVENT
DTSTART;TZID=America/Chicago:20191205T173000
DTEND;TZID=America/Chicago:20191205T190000
DTSTAMP:20260422T215405
CREATED:20191125T194021Z
LAST-MODIFIED:20191202T175034Z
UID:10000866-1575567000-1575572400@visionlossresources.org
SUMMARY:Learning Spanish
DESCRIPTION:Would you like to communicate with Spanish speakers in your community\, at work and when you travel? Then this class is for you. We have an opportunity to learn basic Spanish over a period of five Thursdays in November and December. Our instructor\, Iris M.\, is a native Spanish speaker and in her country of origin\, she taught English as a second language. In Minnesota she has worked as a Spanish instructor. You are encouraged to attend all five classes and need to pay in full at the first session. At the end of the five-week period we will consider your interest in pursuing more advanced classes. Please plan your rides for 7 pm. Space is limited.
URL:https://visionlossresources.org/event/learning-spanish-3/2019-12-05/
LOCATION:MN\, United States
CATEGORIES:Education,Featured
END:VEVENT
BEGIN:VEVENT
DTSTART;TZID=America/Chicago:20191119T113000
DTEND;TZID=America/Chicago:20191119T133000
DTSTAMP:20260422T215405
CREATED:20191016T162351Z
LAST-MODIFIED:20191028T160239Z
UID:10000844-1574163000-1574170200@visionlossresources.org
SUMMARY:Lunch Bunch: The Little Venetian
DESCRIPTION:This Twin Cities restaurant has been around for over 70 years and is still operated by the Vitale family. Their specialties are classic foods from southern Italy such as Chicken Parmigiano\, spaghetti\, penne\, ravioli and lasagna. In addition\, they have soups\, salads and sandwiches\, and a full bar. Due to our group size gratuity is added to each bill. Please plan your rides for 1:30 pm. Space is limited. Address: 2900 Rice St. #240 (In the strip mall off Market Place Dr\, just East of Rice St\, next door to the Dollar Tree) Little Canada\, 55113
URL:https://visionlossresources.org/event/lunch-bunch-the-little-venetian-2/
LOCATION:MN
CATEGORIES:Dining,Featured,Volunteers Needed
END:VEVENT
BEGIN:VEVENT
DTSTART;TZID=America/Chicago:20191119T100000
DTEND;TZID=America/Chicago:20191119T120000
DTSTAMP:20260422T215405
CREATED:20191016T162350Z
LAST-MODIFIED:20191025T152038Z
UID:10000843-1574157600-1574164800@visionlossresources.org
SUMMARY:Tech 101: Tech Open House
DESCRIPTION:Here we will look at and discuss the different types of technology available for the blind and visually impaired.
URL:https://visionlossresources.org/event/tech-101-tech-open-house-2/
LOCATION:MN\, United States
CATEGORIES:Featured,Tech
END:VEVENT
BEGIN:VEVENT
DTSTART;TZID=America/Chicago:20191112T123000
DTEND;TZID=America/Chicago:20191112T143000
DTSTAMP:20260422T215405
CREATED:20191016T162346Z
LAST-MODIFIED:20191025T152716Z
UID:10000838-1573561800-1573569000@visionlossresources.org
SUMMARY:Movie Matinee: Pick of the Litter
DESCRIPTION:Join us for popcorn and this wonderful audio-described documentary about Guide Dogs of America. Pick of the Litter follows a litter of puppies from the moment they are born and begin their quest to become guide dogs for the blind. Cameras follow these pups through an intense two-year odyssey as they train to become dogs whose ultimate responsibility is to protect their blind partners from harm. The stakes are high and not every dog can make the cut. It is a heartwarming and informative documentary. Please schedule rides for 2:30 pm.
URL:https://visionlossresources.org/event/movie-matinee-pick-of-the-liter-2/
LOCATION:MN\, United States
CATEGORIES:Featured,Movie
END:VEVENT
BEGIN:VEVENT
DTSTART;TZID=America/Chicago:20191111T103000
DTEND;TZID=America/Chicago:20191111T143000
DTSTAMP:20260422T215405
CREATED:20191016T162345Z
LAST-MODIFIED:20191028T160458Z
UID:10000833-1573468200-1573482600@visionlossresources.org
SUMMARY:Shopping Day at Eden Prairie Center
DESCRIPTION:Join us for a fun day of shopping. Shop for the holidays or for yourself. We will have volunteers to assist you with finding what you need. Lunch is on your own. Please arrange your rides for 2:30 pm. We will meet at the mall entrance\, past Target\, with the Old Navy sign above the door. Space is limited.
URL:https://visionlossresources.org/event/shopping-day-at-eden-prairie-center-2/
LOCATION:MN
CATEGORIES:Featured,Shopping
END:VEVENT
BEGIN:VEVENT
DTSTART;TZID=America/Chicago:20191107T173000
DTEND;TZID=America/Chicago:20191107T190000
DTSTAMP:20260422T215405
CREATED:20191016T162341Z
LAST-MODIFIED:20191025T152038Z
UID:10000829-1573147800-1573153200@visionlossresources.org
SUMMARY:Learning Spanish
DESCRIPTION:Would you like to communicate with Spanish speakers in your community\, at work and when you travel? Then this class is for you. We have an opportunity to learn basic Spanish over a period of five Thursdays in November and December. Our instructor\, Iris M.\, is a native Spanish speaker and in her country of origin\, she taught English as a second language. In Minnesota she has worked as a Spanish instructor. You are encouraged to attend all five classes and need to pay in full at the first session. At the end of the five-week period we will consider your interest in pursuing more advanced classes. Please plan your rides for 7 pm. Space is limited.
URL:https://visionlossresources.org/event/learning-spanish-2/
LOCATION:MN\, United States
CATEGORIES:Education,Featured
END:VEVENT
BEGIN:VEVENT
DTSTART;TZID=Africa/Abidjan:20191031T130000
DTEND;TZID=Africa/Abidjan:20191031T150000
DTSTAMP:20260422T215405
CREATED:20190923T195703Z
LAST-MODIFIED:20191017T185615Z
UID:10000776-1572526800-1572534000@visionlossresources.org
SUMMARY:Halloween Party
DESCRIPTION:Do you remember when Halloween meant you got to wear a fun costume and get a bunch of free candy? What if I told you that you could do just that again? Here at VLR we will be hosting a Halloween party with snacks\, candy\, door prizes\, and a fun Halloween themed escape room! Wearing a costume isn’t required\, but special prizes will be given to those who do. We hope to see you there! Space is limited.
URL:https://visionlossresources.org/event/halloween-party/
LOCATION:MN\, United States
CATEGORIES:Featured,Party
ORGANIZER;CN="Vision Loss Resources":MAILTO:rsvp@vlrw.org
END:VEVENT
BEGIN:VEVENT
DTSTART;TZID=Africa/Abidjan:20191029T100000
DTEND;TZID=Africa/Abidjan:20191029T120000
DTSTAMP:20260422T215405
CREATED:20190923T195604Z
LAST-MODIFIED:20190924T160253Z
UID:10000775-1572343200-1572350400@visionlossresources.org
SUMMARY:Tech 101: iOS Devices and Voiceover
DESCRIPTION:We will use and explore our iOS devices with the Voiceover setting. Please bring headphones or earbuds to class.
URL:https://visionlossresources.org/event/tech-101-ios-devices-and-voiceover/
LOCATION:MN\, United States
CATEGORIES:Featured,Tech
ORGANIZER;CN="Vision Loss Resources":MAILTO:rsvp@vlrw.org
END:VEVENT
BEGIN:VEVENT
DTSTART;TZID=Africa/Abidjan:20191025T100000
DTEND;TZID=Africa/Abidjan:20191025T120000
DTSTAMP:20260422T215405
CREATED:20190923T195604Z
LAST-MODIFIED:20191017T185623Z
UID:10000651-1571997600-1572004800@visionlossresources.org
SUMMARY:Pottery
DESCRIPTION:Join us as we work on hand-built clay projects. Come make plates\, cups\, or create whatever comes to the imagination. No experience necessary. Space is limited.
URL:https://visionlossresources.org/event/pottery-5/
LOCATION:MN\, United States
CATEGORIES:Art,Craft,Featured
ORGANIZER;CN="Vision Loss Resources":MAILTO:rsvp@vlrw.org
END:VEVENT
BEGIN:VEVENT
DTSTART;TZID=Africa/Abidjan:20191018T130000
DTEND;TZID=Africa/Abidjan:20191018T140000
DTSTAMP:20260422T215405
CREATED:20190923T195603Z
LAST-MODIFIED:20190924T160155Z
UID:10000647-1571403600-1571407200@visionlossresources.org
SUMMARY:Balance Class
DESCRIPTION:Strength\, balance\, and physical endurance are sure to improve with this class. Each class will consist of strength training\, cardiovascular and balance exercises all designed for the unique needs of seniors. Interested in preventing falls\, building strength and improving flexibility\, then come and see if it is a good fit for you. Our trainer\, Angela\, can change-up the exercises to individual needs\, and important\, she keeps it fun! Space is limited.
URL:https://visionlossresources.org/event/balance-class-5/
LOCATION:MN\, United States
CATEGORIES:Featured,Fitness
ORGANIZER;CN="Vision Loss Resources":MAILTO:rsvp@vlrw.org
END:VEVENT
BEGIN:VEVENT
DTSTART;TZID=Africa/Abidjan:20191015T140000
DTEND;TZID=Africa/Abidjan:20191015T160000
DTSTAMP:20260422T215405
CREATED:20190923T195317Z
LAST-MODIFIED:20190924T160209Z
UID:10000639-1571148000-1571155200@visionlossresources.org
SUMMARY:Wine and cheese tasting
DESCRIPTION:Lunds & Byerlys pulls out all the stops to provide us with a lineup of new wines and cheeses and a chance to continue our education in this arena. Space is limited. Please plan your pick-up rides for 3-3:15 pm. A repeat of a popular event from earlier this year.
URL:https://visionlossresources.org/event/wine-and-cheese-tasting/
LOCATION:MN
CATEGORIES:Education,Featured
ORGANIZER;CN="Vision Loss Resources":MAILTO:rsvp@vlrw.org
END:VEVENT
BEGIN:VEVENT
DTSTART;TZID=Africa/Abidjan:20191009T100000
DTEND;TZID=Africa/Abidjan:20191009T113000
DTSTAMP:20260422T215405
CREATED:20190923T195314Z
LAST-MODIFIED:20190924T160308Z
UID:10000773-1570615200-1570620600@visionlossresources.org
SUMMARY:Coffee tasting with Bootstrap Coffee\, Seed to Cup
DESCRIPTION:This local purveyor of coffee\, both a roaster and a coffee bar\, is coming to our St. Paul office. They will talk about how they choose their coffee and the process of growing to roasting of coffee beans. We’ll get to sample some of their current choices. Bootstrap Coffee is new to the West side of St. Paul\, just a few blocks from VLR. Bootstrap began in 2014 as a wholesale coffee roaster. In early summer of 2019\, Micah moved his business to our side of town. Space is limited. Please schedule your rides from 11:30 to 11:45.Please note: This is a prepay event. You must RSVP and pay for this activity by Friday\, October 4th. For more information go to the Refund Policy at the end of calendar.
URL:https://visionlossresources.org/event/coffee-tasting-with-bootstrap-coffee-seed-to-cup/
LOCATION:MN\, United States
CATEGORIES:Education,Featured
ORGANIZER;CN="Vision Loss Resources":MAILTO:rsvp@vlrw.org
END:VEVENT
BEGIN:VEVENT
DTSTART;TZID=Africa/Abidjan:20191008T100000
DTEND;TZID=Africa/Abidjan:20191008T120000
DTSTAMP:20260422T215405
CREATED:20190923T195310Z
LAST-MODIFIED:20190924T160343Z
UID:10000770-1570528800-1570536000@visionlossresources.org
SUMMARY:Tech 101: Reading Printed Text
DESCRIPTION:We will be exploring ways\, tips and tricks to read printed materials. Please bring headphones or earbuds to class.
URL:https://visionlossresources.org/event/tech-101-reading-printed-text/
LOCATION:MN\, United States
CATEGORIES:Featured,Tech
ORGANIZER;CN="Vision Loss Resources":MAILTO:rsvp@vlrw.org
END:VEVENT
BEGIN:VEVENT
DTSTART;TZID=Africa/Abidjan:20191002T170000
DTEND;TZID=Africa/Abidjan:20191002T190000
DTSTAMP:20260422T215405
CREATED:20190923T195308Z
LAST-MODIFIED:20190924T160319Z
UID:10000765-1570035600-1570042800@visionlossresources.org
SUMMARY:Supper Club: The Lynhall
DESCRIPTION:The Lynhall is just south of Minneapolis VLR. It is a market-inspired restaurant\, event space\, kitchen studio and incubator kitchen\, per the website. They strive to create a space to inspire employees\, customers and makers to gather around great food experiences. They have a full bar and an updated fall menu. Due to the size of our group\, gratuity is added to each bill. Plan your rides for 7 pm to 7:15 pm. Space is limited.Address: 2640 Lyndale Ave. S. (Lowry Hill East area) Minneapolis 55408 (Corner of Lyndale S. and W. 27th St.)
URL:https://visionlossresources.org/event/supper-club-the-lynhall/
LOCATION:Roseville Ramsey County Library\, 2180 Hamline Avenue North\, Roseville\, MN\, 55113
CATEGORIES:Dining,Featured
ORGANIZER;CN="Vision Loss Resources":MAILTO:rsvp@vlrw.org
END:VEVENT
BEGIN:VEVENT
DTSTART;TZID=America/Chicago:20190927T100000
DTEND;TZID=America/Chicago:20190927T120000
DTSTAMP:20260422T215405
CREATED:20190815T191337Z
LAST-MODIFIED:20190924T160549Z
UID:10000753-1569578400-1569585600@visionlossresources.org
SUMMARY:Pottery
DESCRIPTION:Join us as we work on hand-built clay projects. Come make plates\, cups\, or create whatever comes to the imagination. No experience necessary. Space is limited. \nPlease RSVP for every event: call (612) 843-3439 or email rsvp@vlrw.org. \nLearn about VLR’s event policies and news.
URL:https://visionlossresources.org/event/pottery-4/
LOCATION:MN\, United States
CATEGORIES:Art,Craft,Featured,Volunteers Needed
ORGANIZER;CN="Vision Loss Resources":MAILTO:rsvp@vlrw.org
END:VEVENT
BEGIN:VEVENT
DTSTART;TZID=America/Chicago:20190925T101500
DTEND;TZID=America/Chicago:20190925T163000
DTSTAMP:20260422T215405
CREATED:20190815T192355Z
LAST-MODIFIED:20190924T160512Z
UID:10000763-1569406500-1569429000@visionlossresources.org
SUMMARY:A day at the Minnesota Landscape Arboretum
DESCRIPTION:The Minnesota Landscape Arboretum is a premier northern garden and has over 1\,200 acres of gardens and tree collections\, prairie and woods\, and miles of trails. We will take a private tram tour narrated by their staff. The Arboretum was born out of the University’s Horticulture Research Center and established in 1958. \nA brief description of our day: we’ll leave VLR at 10:30am sharp. Once at the Arboretum\, you and your sighted helper can tour the main building and nearby gardens. Lunch is available in the cafeteria and is your responsibility\, or you can pack your own. We’ll board the tram by 1:20 pm for our tour. Depending on weather\, everyone’s preference\, and tram staff approval\, we may stop along the way to explore. At 3:00pm we will board the bus to return to VLR. Please dress appropriately for the weather. We encourage you to invite a sighted guest\, but they need to pay their own way. Arrange your pick-up rides for VLR Minneapolis at 4:30 pm. Space is limited. \nPlease note: This is a prepay event. You must RSVP and pay for this activity by Wednesday\, September 11th\, this includes your sighted guest’s ticket too. For more information go to the Refund Policy at the end of calendar. \nPlease RSVP for every event: call (612) 843-3439 or email rsvp@vlrw.org. \nLearn about VLR’s event policies and news.
URL:https://visionlossresources.org/event/a-day-at-the-minnesota-landscape-arboretum-2/
LOCATION:MN\, United States
CATEGORIES:Featured,Field Trip,Outdoors,Volunteers Needed
ORGANIZER;CN="Vision Loss Resources":MAILTO:rsvp@vlrw.org
END:VEVENT
BEGIN:VEVENT
DTSTART;TZID=America/Chicago:20190920T130000
DTEND;TZID=America/Chicago:20190920T140000
DTSTAMP:20260422T215405
CREATED:20190815T191337Z
LAST-MODIFIED:20190918T133946Z
UID:10000746-1568984400-1568988000@visionlossresources.org
SUMMARY:Balance Class
DESCRIPTION:Strength\, balance\, and physical endurance are sure to improve with this class. Each class will consist of strength training\, cardiovascular and balance exercises all designed for the unique needs of seniors. Interested in preventing falls\, building strength and improving flexibility\, then come and see if it is a good fit for you. Our trainer\, Angela\, can change-up the exercises to individual needs\, and important\, she keeps it fun! Space is limited. \nPlease RSVP for every event: call (612) 843-3439 or email rsvp@vlrw.org. \nLearn about VLR’s event policies and news.
URL:https://visionlossresources.org/event/balance-class-4/
LOCATION:MN\, United States
CATEGORIES:Featured,Fitness
ORGANIZER;CN="Vision Loss Resources":MAILTO:rsvp@vlrw.org
END:VEVENT
BEGIN:VEVENT
DTSTART;TZID=America/Chicago:20190917T113000
DTEND;TZID=America/Chicago:20190917T133000
DTSTAMP:20260422T215405
CREATED:20190815T192354Z
LAST-MODIFIED:20190904T200647Z
UID:10000758-1568719800-1568727000@visionlossresources.org
SUMMARY:Lunch Bunch: Red Cow
DESCRIPTION:The last time we went to Red Cow was in 2016. This is a family-owned chain of restaurants with four in the Twin Cities. They are best known for their burgers: beef or turkey (Sharon K.’s recommendation!). They also have soups\, salads and other sandwiches\, tacos\, a yummy dessert menu\, and a full bar. Due to the size of our group\, gratuity is automatically added to each bill. Plan your rides for 1:30-1:45 pm. Space is limited. \nPlease RSVP for every event: call (612) 843-3439 or email rsvp@vlrw.org. \nLearn about VLR’s event policies and news.
URL:https://visionlossresources.org/event/lunch-bunch-red-cow-2/
LOCATION:MN
CATEGORIES:Dining,Featured,Volunteers Needed
ORGANIZER;CN="Vision Loss Resources":MAILTO:rsvp@vlrw.org
END:VEVENT
BEGIN:VEVENT
DTSTART;TZID=America/Chicago:20190913T111500
DTEND;TZID=America/Chicago:20190913T121500
DTSTAMP:20260422T215405
CREATED:20190815T191336Z
LAST-MODIFIED:20190904T200717Z
UID:10000613-1568373300-1568376900@visionlossresources.org
SUMMARY:Flexibility Class
DESCRIPTION:Improve your flexibility and stability with gentle muscular stretches and myofascial self-release. Join us twice a month and learn exercises that you can practice at home. Range of motion\, stabilizing\, and muscle firming exercises will be practiced. Floor work is not required but highly encouraged. Bring a fitness mat\, a rolling pin\, and a tennis ball to receive the most beneficial workout. Space is limited. \nPlease RSVP for every event: call (612) 843-3439 or email rsvp@vlrw.org. \nLearn about VLR’s event policies and news.
URL:https://visionlossresources.org/event/flexibility-class-5/
LOCATION:MN\, United States
CATEGORIES:Featured,Fitness
ORGANIZER;CN="Vision Loss Resources":MAILTO:rsvp@vlrw.org
END:VEVENT
BEGIN:VEVENT
DTSTART;TZID=America/Chicago:20190906T121500
DTEND;TZID=America/Chicago:20190906T154500
DTSTAMP:20260422T215405
CREATED:20190815T192353Z
LAST-MODIFIED:20190904T200948Z
UID:10000625-1567772100-1567784700@visionlossresources.org
SUMMARY:Let's Go Fishing
DESCRIPTION:Join nine of your friends for catch and release fishing on Lake Riley in Eden Prairie\, the boat departs at 1 pm sharp. You’ll need to get your own fishing license in advance to fish. Get a free license with a current doctor’s statement saying you’re legally blind. If you’re over 90 you don’t need a license. Everyone will be signing a Liability & Photo Approval Release form to board the boat. Call the hotline for cancellations. Plan your pick-up rides for 3:30-3:45 pm. Space is limited.Please note: This is a prepay event. You must RSVP and pay for this activity by Thursday\, August 29th. For more information go to the Refund Policy at the end of calendar.\nAddress: 9300 Riley Lake Road\, Eden Prairie\, MN 55344 \nPlease RSVP for every event: call (612) 843-3439 or email rsvp@vlrw.org. \nLearn about VLR’s event policies and news.
URL:https://visionlossresources.org/event/lets-go-fishing-2/
LOCATION:MN
CATEGORIES:Featured,Field Trip,Hobby,Outdoors
ORGANIZER;CN="Vision Loss Resources":MAILTO:rsvp@vlrw.org
END:VEVENT
BEGIN:VEVENT
DTSTART;TZID=America/Chicago:20190904T160000
DTEND;TZID=America/Chicago:20190904T183000
DTSTAMP:20260422T215405
CREATED:20190815T192352Z
LAST-MODIFIED:20190904T201048Z
UID:10000622-1567612800-1567621800@visionlossresources.org
SUMMARY:Fantasy Football Draft
DESCRIPTION:Are you a Vikings fan? Do you love football? Join our 5th season of Fantasy Football draft picks! It’s a competition where participants select teams from the NFL players and score points based on their players performance and team each week. Try something new and fun! New owners are always welcome and the more people who join us the better! Call Renee W. at (612) 843-3403 with any questions. \nPlease RSVP for every event: call (612) 843-3439 or email rsvp@vlrw.org. \nLearn about VLR’s event policies and news.
URL:https://visionlossresources.org/event/fantasy-football-draft-2/
LOCATION:MN\, United States
CATEGORIES:Featured,Game
ORGANIZER;CN="Vision Loss Resources":MAILTO:rsvp@vlrw.org
END:VEVENT
END:VCALENDAR