BEGIN:VCALENDAR
VERSION:2.0
PRODID:-//Vision Loss Resources - ECPv6.15.19//NONSGML v1.0//EN
CALSCALE:GREGORIAN
METHOD:PUBLISH
X-ORIGINAL-URL:https://visionlossresources.org
X-WR-CALDESC:Events for Vision Loss Resources
REFRESH-INTERVAL;VALUE=DURATION:PT1H
X-Robots-Tag:noindex
X-PUBLISHED-TTL:PT1H
BEGIN:VTIMEZONE
TZID:America/Chicago
BEGIN:DAYLIGHT
TZOFFSETFROM:-0600
TZOFFSETTO:-0500
TZNAME:CDT
DTSTART:20180311T080000
END:DAYLIGHT
BEGIN:STANDARD
TZOFFSETFROM:-0500
TZOFFSETTO:-0600
TZNAME:CST
DTSTART:20181104T070000
END:STANDARD
BEGIN:DAYLIGHT
TZOFFSETFROM:-0600
TZOFFSETTO:-0500
TZNAME:CDT
DTSTART:20190310T080000
END:DAYLIGHT
BEGIN:STANDARD
TZOFFSETFROM:-0500
TZOFFSETTO:-0600
TZNAME:CST
DTSTART:20191103T070000
END:STANDARD
BEGIN:DAYLIGHT
TZOFFSETFROM:-0600
TZOFFSETTO:-0500
TZNAME:CDT
DTSTART:20200308T080000
END:DAYLIGHT
BEGIN:STANDARD
TZOFFSETFROM:-0500
TZOFFSETTO:-0600
TZNAME:CST
DTSTART:20201101T070000
END:STANDARD
BEGIN:DAYLIGHT
TZOFFSETFROM:-0600
TZOFFSETTO:-0500
TZNAME:CDT
DTSTART:20210314T080000
END:DAYLIGHT
BEGIN:STANDARD
TZOFFSETFROM:-0500
TZOFFSETTO:-0600
TZNAME:CST
DTSTART:20211107T070000
END:STANDARD
BEGIN:DAYLIGHT
TZOFFSETFROM:-0600
TZOFFSETTO:-0500
TZNAME:CDT
DTSTART:20220313T080000
END:DAYLIGHT
BEGIN:STANDARD
TZOFFSETFROM:-0500
TZOFFSETTO:-0600
TZNAME:CST
DTSTART:20221106T070000
END:STANDARD
END:VTIMEZONE
BEGIN:VTIMEZONE
TZID:Africa/Abidjan
BEGIN:STANDARD
TZOFFSETFROM:+0000
TZOFFSETTO:+0000
TZNAME:GMT
DTSTART:20180101T000000
END:STANDARD
END:VTIMEZONE
BEGIN:VEVENT
DTSTART;TZID=America/Chicago:20210623T120000
DTEND;TZID=America/Chicago:20210623T130000
DTSTAMP:20260419T225219
CREATED:20210523T120056Z
LAST-MODIFIED:20210514T133015Z
UID:10000868-1624449600-1624453200@visionlossresources.org
SUMMARY:Remote Lunch Bunch
DESCRIPTION:Grab your lunch\, join this Zoom call\, and we will talk\, laugh\, and socialize while we eat a meal together online.\nTo join on your computer or smart phone\, select the link below. To call in\, dial the phone number and enter the meeting ID. If you have an iPhone\, select the One Tap Mobile number to connect. \nLunch Bunch link: https://zoom.us/j/94648420145 \nPhone number: (651) 372-8299 \nMeeting ID: 946 4842 0145 \nOne tap mobile: +16513728299\,\,94648420145#
URL:https://visionlossresources.org/event/remote-lunch-bunch-6/
LOCATION:Online Only\, MN\, United States
CATEGORIES:Dining,Featured
ORGANIZER;CN="Vision Loss Resources":MAILTO:rsvp@vlrw.org
END:VEVENT
BEGIN:VEVENT
DTSTART;TZID=America/Chicago:20210526T120000
DTEND;TZID=America/Chicago:20210526T130000
DTSTAMP:20260419T225219
CREATED:20210425T120012Z
LAST-MODIFIED:20210423T140956Z
UID:10001088-1622030400-1622034000@visionlossresources.org
SUMMARY:Remote Lunch Bunch
DESCRIPTION:Grab your lunch\, join this Zoom call\, and we will talk\, laugh\, and socialize while we eat a meal together online.\nTo join on your computer or smart phone\, select the link below. To call in\, dial the phone number and enter the meeting ID. If you have an iPhone\, select the One Tap Mobile number to connect. \nLunch Bunch link: https://zoom.us/j/94648420145 \nPhone number: (651) 372-8299 \nMeeting ID: 946 4842 0145 \nOne tap mobile: +16513728299\,\,94648420145#
URL:https://visionlossresources.org/event/remote-lunch-bunch-5/
LOCATION:Online Only\, MN\, United States
CATEGORIES:Dining,Featured
ORGANIZER;CN="Vision Loss Resources":MAILTO:rsvp@vlrw.org
END:VEVENT
BEGIN:VEVENT
DTSTART;TZID=America/Chicago:20210428T120000
DTEND;TZID=America/Chicago:20210428T130000
DTSTAMP:20260419T225219
CREATED:20210328T120030Z
LAST-MODIFIED:20210322T211129Z
UID:10001074-1619611200-1619614800@visionlossresources.org
SUMMARY:Remote Lunch Bunch
DESCRIPTION:Grab your lunch\, join this Zoom call\, and we will talk\, laugh\, and socialize while we eat a meal together online. \nTo join on your computer or smart phone\, select the link below. To call in\, dial the phone number and enter the meeting ID. If you have an iPhone\, select the One Tap Mobile number to connect. \nLunch Bunch link: https://zoom.us/j/94648420145 \nPhone number: (651) 372-8299 \nMeeting ID: 946 4842 0145 \nOne tap mobile: +16513728299\,\,94648420145#
URL:https://visionlossresources.org/event/remote-lunch-bunch-4/
LOCATION:Online Only\, MN\, United States
CATEGORIES:Dining,Featured
ORGANIZER;CN="Vision Loss Resources":MAILTO:rsvp@vlrw.org
END:VEVENT
BEGIN:VEVENT
DTSTART;TZID=America/Chicago:20210324T120000
DTEND;TZID=America/Chicago:20210324T130000
DTSTAMP:20260419T225219
CREATED:20210222T130051Z
LAST-MODIFIED:20210219T150746Z
UID:10001061-1616587200-1616590800@visionlossresources.org
SUMMARY:Remote Lunch Bunch
DESCRIPTION:Grab your lunch\, join this Zoom call\, and we will talk\, laugh\, and socialize while we eat a meal together online. \nTo join on your computer or smart phone\, select the link below. To call in\, dial the phone number and enter the meeting ID. If you have an iPhone\, select the One Tap Mobile number to connect. \nLunch Bunch link: https://zoom.us/j/94648420145 \nPhone number:  (651) 372-8299 \nMeeting ID: 946 4842 0145 \nOne tap mobile:  +16513728299\,\,94648420145#
URL:https://visionlossresources.org/event/remote-lunch-bunch-3/
LOCATION:Online Only\, MN\, United States
CATEGORIES:Dining,Featured
ORGANIZER;CN="Vision Loss Resources":MAILTO:rsvp@vlrw.org
END:VEVENT
BEGIN:VEVENT
DTSTART;TZID=America/Chicago:20210224T120000
DTEND;TZID=America/Chicago:20210224T130000
DTSTAMP:20260419T225219
CREATED:20210125T122347Z
LAST-MODIFIED:20210125T122347Z
UID:10000807-1614168000-1614171600@visionlossresources.org
SUMMARY:Remote Lunch Bunch
DESCRIPTION:Grab your lunch\, join this Zoom call\, and we will talk\, laugh\, and socialize while we eat a meal together online. To join on your computer or smart phone\, select the link below. To call in\, dial the phone number and enter the meeting ID. If you have an iPhone\, select the One Tap Mobile number to connect.\n2/24 Lunch Bunch link: https://zoom.us/j/93395387141\nPhone number: (651) 372-8299\nMeeting ID: 933 9538 7141\nOne tap mobile: +16513728299\,\,93395387141#
URL:https://visionlossresources.org/event/remote-lunch-bunch-2/
LOCATION:Online Only\, MN\, United States
CATEGORIES:Dining,Featured
ORGANIZER;CN="Vision Loss Resources":MAILTO:rsvp@vlrw.org
END:VEVENT
BEGIN:VEVENT
DTSTART;TZID=America/Chicago:20210127T120000
DTEND;TZID=America/Chicago:20210127T130000
DTSTAMP:20260419T225219
CREATED:20201228T130004Z
LAST-MODIFIED:20201223T182013Z
UID:10001042-1611748800-1611752400@visionlossresources.org
SUMMARY:Remote Lunch Bunch
DESCRIPTION:Since we had fun at our holiday remote lunch bunch last month\, let’s make this a monthly activity!  Grab your lunch\, join this Zoom call\, and we will talk\, laugh\, and socialize while we eat a meal together online. \nTo join on your computer or smart phone\, select the link below. To call in\, dial the phone number and enter the meeting ID. If you have an iPhone\, select the One Tap Mobile number to connect. \n1/27 Lunch Bunch link:  https://zoom.us/j/94012328195 \nPhone number:  (651) 372-8299 \nMeeting ID: 940 1232 8195 \nOne tap mobile:  +16513728299\,\,94012328195#
URL:https://visionlossresources.org/event/remote-lunch-bunch/
LOCATION:Online Only\, MN\, United States
CATEGORIES:Dining,Featured
ORGANIZER;CN="Vision Loss Resources":MAILTO:rsvp@vlrw.org
END:VEVENT
BEGIN:VEVENT
DTSTART;TZID=America/Chicago:20201216T120000
DTEND;TZID=America/Chicago:20201216T130000
DTSTAMP:20260419T225219
CREATED:20201123T130039Z
LAST-MODIFIED:20201120T194710Z
UID:10001035-1608120000-1608123600@visionlossresources.org
SUMMARY:Remote Holiday Lunch Bunch
DESCRIPTION:Join us for a fun\, festive\, remote gathering to celebrate the holidays together.  Please grab your lunch\, join this Zoom call\, and we will talk\, laugh\, and socialize while we eat a meal together online.  Wear your favorite holiday outfit too!  There may also be some fun\, holiday surprises along the way! \nTo join\, click on the Zoom link below or dial the phone number and enter the meeting ID: \nhttps://zoom.us/j/95051906047 \n(651) 372-8299 \nMeeting ID: 950 5190 6047 \nOne tap mobile: +16513728299\,\, 95051906047#
URL:https://visionlossresources.org/event/remote-holiday-lunch-bunch/
LOCATION:Online Only\, MN\, United States
CATEGORIES:Dining,Featured
ORGANIZER;CN="Vision Loss Resources":MAILTO:rsvp@vlrw.org
END:VEVENT
BEGIN:VEVENT
DTSTART;TZID=America/Chicago:20200205T170000
DTEND;TZID=America/Chicago:20200205T190000
DTSTAMP:20260419T225219
CREATED:20200128T203320Z
LAST-MODIFIED:20200130T162458Z
UID:10000706-1580922000-1580929200@visionlossresources.org
SUMMARY:Supper Club
DESCRIPTION:Curran’s started out in 1948 as a drive-in and added indoor seating in 1954. 20 years later they opened the dining room and coffee shop. They offer wide menu choices from appetizers and salads to pastas\, seafood\, burgers and what they call “from the country” which includes pot roast\, meatloaf and so on. Something to please everyone. They offer many beverages and wine and beer.  Due to the group size gratuity is automatically added to each bill. Plan your rides for 7pm to 7:15 pm. Space is limited.
URL:https://visionlossresources.org/event/supper-club-2/
LOCATION:MN
CATEGORIES:Dining,Featured,Volunteers Needed
END:VEVENT
BEGIN:VEVENT
DTSTART;TZID=America/Chicago:20200121T110000
DTEND;TZID=America/Chicago:20200121T130000
DTSTAMP:20260419T225219
CREATED:20191223T174511Z
LAST-MODIFIED:20191223T202616Z
UID:10000930-1579604400-1579611600@visionlossresources.org
SUMMARY:Lunch Bunch: The Red Wagon Pizza Company
DESCRIPTION:This delightful pizza pie shoppe was featured on Diners\, Drive-ins and Dives (as seen on the Food Network and hosted by Guy Fieri). The owners began with a stand at the Linden Hills Farmers Market until they opened their brick and mortar shop. In addition to pizzas and other delicious menu items\, including appetizers\, pasta\, and so on\, they offer a vast selection of beer and wine. Due to the size of our group gratuity is automatically added to each bill. Please plan your rides for 1:30 pm. Space is limited.
URL:https://visionlossresources.org/event/lunch-bunch-the-red-wagon-pizza-company/
LOCATION:MN
CATEGORIES:Dining,Featured,Volunteers Needed
END:VEVENT
BEGIN:VEVENT
DTSTART;TZID=America/Chicago:20191204T170000
DTEND;TZID=America/Chicago:20191204T190000
DTSTAMP:20260419T225219
CREATED:20191125T194020Z
LAST-MODIFIED:20191125T194801Z
UID:10000860-1575478800-1575486000@visionlossresources.org
SUMMARY:Supper Club: Axel's Restaurant Grill in Mendota
DESCRIPTION:We hope that we have found our next “tradition” for December’s supper club. Axels in Mendota is the first of three Axels restaurants in the Metro area. We will have a limited menu to choose from which includes sirloin steak\, walleye\, orecchiette pasta\, coconut shrimp\, and burgers; you may substitute grilled chicken for the beef. The entrees include soup or salad and two sides\, while the burgers come with french-fries. The prices for the entrée’s range from $30 to $15. In addition\, we will also be able to choose appetizers and desserts from the menu. They offer a full bar. Due to the size of our group a gratuity is automatically added to each bill. Plan your rides for 7pm to 7:05 pm. Space is limited.
URL:https://visionlossresources.org/event/supper-club-axels-restaurant-grill-in-mendota-2/
LOCATION:MN
CATEGORIES:Dining,Volunteers Needed
END:VEVENT
BEGIN:VEVENT
DTSTART;TZID=America/Chicago:20191119T113000
DTEND;TZID=America/Chicago:20191119T133000
DTSTAMP:20260419T225219
CREATED:20191016T162351Z
LAST-MODIFIED:20191028T160239Z
UID:10000844-1574163000-1574170200@visionlossresources.org
SUMMARY:Lunch Bunch: The Little Venetian
DESCRIPTION:This Twin Cities restaurant has been around for over 70 years and is still operated by the Vitale family. Their specialties are classic foods from southern Italy such as Chicken Parmigiano\, spaghetti\, penne\, ravioli and lasagna. In addition\, they have soups\, salads and sandwiches\, and a full bar. Due to our group size gratuity is added to each bill. Please plan your rides for 1:30 pm. Space is limited. Address: 2900 Rice St. #240 (In the strip mall off Market Place Dr\, just East of Rice St\, next door to the Dollar Tree) Little Canada\, 55113
URL:https://visionlossresources.org/event/lunch-bunch-the-little-venetian-2/
LOCATION:MN
CATEGORIES:Dining,Featured,Volunteers Needed
END:VEVENT
BEGIN:VEVENT
DTSTART;TZID=Africa/Abidjan:20191002T170000
DTEND;TZID=Africa/Abidjan:20191002T190000
DTSTAMP:20260419T225219
CREATED:20190923T195308Z
LAST-MODIFIED:20190924T160319Z
UID:10000765-1570035600-1570042800@visionlossresources.org
SUMMARY:Supper Club: The Lynhall
DESCRIPTION:The Lynhall is just south of Minneapolis VLR. It is a market-inspired restaurant\, event space\, kitchen studio and incubator kitchen\, per the website. They strive to create a space to inspire employees\, customers and makers to gather around great food experiences. They have a full bar and an updated fall menu. Due to the size of our group\, gratuity is added to each bill. Plan your rides for 7 pm to 7:15 pm. Space is limited.Address: 2640 Lyndale Ave. S. (Lowry Hill East area) Minneapolis 55408 (Corner of Lyndale S. and W. 27th St.)
URL:https://visionlossresources.org/event/supper-club-the-lynhall/
LOCATION:Roseville Ramsey County Library\, 2180 Hamline Avenue North\, Roseville\, MN\, 55113
CATEGORIES:Dining,Featured
ORGANIZER;CN="Vision Loss Resources":MAILTO:rsvp@vlrw.org
END:VEVENT
BEGIN:VEVENT
DTSTART;TZID=America/Chicago:20190917T113000
DTEND;TZID=America/Chicago:20190917T133000
DTSTAMP:20260419T225219
CREATED:20190815T192354Z
LAST-MODIFIED:20190904T200647Z
UID:10000758-1568719800-1568727000@visionlossresources.org
SUMMARY:Lunch Bunch: Red Cow
DESCRIPTION:The last time we went to Red Cow was in 2016. This is a family-owned chain of restaurants with four in the Twin Cities. They are best known for their burgers: beef or turkey (Sharon K.’s recommendation!). They also have soups\, salads and other sandwiches\, tacos\, a yummy dessert menu\, and a full bar. Due to the size of our group\, gratuity is automatically added to each bill. Plan your rides for 1:30-1:45 pm. Space is limited. \nPlease RSVP for every event: call (612) 843-3439 or email rsvp@vlrw.org. \nLearn about VLR’s event policies and news.
URL:https://visionlossresources.org/event/lunch-bunch-red-cow-2/
LOCATION:MN
CATEGORIES:Dining,Featured,Volunteers Needed
ORGANIZER;CN="Vision Loss Resources":MAILTO:rsvp@vlrw.org
END:VEVENT
END:VCALENDAR