BEGIN:VCALENDAR
VERSION:2.0
PRODID:-//Vision Loss Resources - ECPv6.15.19//NONSGML v1.0//EN
CALSCALE:GREGORIAN
METHOD:PUBLISH
X-ORIGINAL-URL:https://visionlossresources.org
X-WR-CALDESC:Events for Vision Loss Resources
REFRESH-INTERVAL;VALUE=DURATION:PT1H
X-Robots-Tag:noindex
X-PUBLISHED-TTL:PT1H
BEGIN:VTIMEZONE
TZID:America/Chicago
BEGIN:DAYLIGHT
TZOFFSETFROM:-0600
TZOFFSETTO:-0500
TZNAME:CDT
DTSTART:20190310T080000
END:DAYLIGHT
BEGIN:STANDARD
TZOFFSETFROM:-0500
TZOFFSETTO:-0600
TZNAME:CST
DTSTART:20191103T070000
END:STANDARD
BEGIN:DAYLIGHT
TZOFFSETFROM:-0600
TZOFFSETTO:-0500
TZNAME:CDT
DTSTART:20200308T080000
END:DAYLIGHT
BEGIN:STANDARD
TZOFFSETFROM:-0500
TZOFFSETTO:-0600
TZNAME:CST
DTSTART:20201101T070000
END:STANDARD
BEGIN:DAYLIGHT
TZOFFSETFROM:-0600
TZOFFSETTO:-0500
TZNAME:CDT
DTSTART:20210314T080000
END:DAYLIGHT
BEGIN:STANDARD
TZOFFSETFROM:-0500
TZOFFSETTO:-0600
TZNAME:CST
DTSTART:20211107T070000
END:STANDARD
END:VTIMEZONE
BEGIN:VEVENT
DTSTART;TZID=America/Chicago:20201008T090000
DTEND;TZID=America/Chicago:20201008T103000
DTSTAMP:20260422T111248
CREATED:20200824T150008Z
LAST-MODIFIED:20200928T150045Z
UID:10000996-1602147600-1602153000@visionlossresources.org
SUMMARY:Learning Spanish II
DESCRIPTION:We have an opportunity to learn basic Spanish over a period of five Thursdays in September and October. Iris M. will be our instructor again. You’re encouraged to attend all five classes. You’ll be provided with materials prior to the start of the sessions in the format you prefer (i.e. Braille\, Large Print\, or email). \nPlease RSVP to jen@vlrw.org or call Jen at (612) 843-2583.  She will send you materials and Zoom link prior to the first session.
URL:https://visionlossresources.org/event/learning-spanish-ii-5/2020-10-08/
LOCATION:Online Only\, MN\, United States
CATEGORIES:Culture,Education
ORGANIZER;CN="Vision Loss Resources":MAILTO:rsvp@vlrw.org
END:VEVENT
BEGIN:VEVENT
DTSTART;TZID=America/Chicago:20201001T090000
DTEND;TZID=America/Chicago:20201001T103000
DTSTAMP:20260422T111248
CREATED:20200824T150008Z
LAST-MODIFIED:20200928T150045Z
UID:10000995-1601542800-1601548200@visionlossresources.org
SUMMARY:Learning Spanish II
DESCRIPTION:We have an opportunity to learn basic Spanish over a period of five Thursdays in September and October. Iris M. will be our instructor again. You’re encouraged to attend all five classes. You’ll be provided with materials prior to the start of the sessions in the format you prefer (i.e. Braille\, Large Print\, or email). \nPlease RSVP to jen@vlrw.org or call Jen at (612) 843-2583.  She will send you materials and Zoom link prior to the first session.
URL:https://visionlossresources.org/event/learning-spanish-ii-5/2020-10-01/
LOCATION:Online Only\, MN\, United States
CATEGORIES:Culture,Education
ORGANIZER;CN="Vision Loss Resources":MAILTO:rsvp@vlrw.org
END:VEVENT
BEGIN:VEVENT
DTSTART;TZID=America/Chicago:20200924T090000
DTEND;TZID=America/Chicago:20200924T103000
DTSTAMP:20260422T111248
CREATED:20200824T150008Z
LAST-MODIFIED:20200928T150045Z
UID:10000994-1600938000-1600943400@visionlossresources.org
SUMMARY:Learning Spanish II
DESCRIPTION:We have an opportunity to learn basic Spanish over a period of five Thursdays in September and October. Iris M. will be our instructor again. You’re encouraged to attend all five classes. You’ll be provided with materials prior to the start of the sessions in the format you prefer (i.e. Braille\, Large Print\, or email). \nPlease RSVP to jen@vlrw.org or call Jen at (612) 843-2583.  She will send you materials and Zoom link prior to the first session.
URL:https://visionlossresources.org/event/learning-spanish-ii-5/2020-09-24/
LOCATION:Online Only\, MN\, United States
CATEGORIES:Culture,Education
ORGANIZER;CN="Vision Loss Resources":MAILTO:rsvp@vlrw.org
END:VEVENT
BEGIN:VEVENT
DTSTART;TZID=America/Chicago:20200917T090000
DTEND;TZID=America/Chicago:20200917T103000
DTSTAMP:20260422T111248
CREATED:20200824T150008Z
LAST-MODIFIED:20200928T150045Z
UID:10000993-1600333200-1600338600@visionlossresources.org
SUMMARY:Learning Spanish II
DESCRIPTION:We have an opportunity to learn basic Spanish over a period of five Thursdays in September and October. Iris M. will be our instructor again. You’re encouraged to attend all five classes. You’ll be provided with materials prior to the start of the sessions in the format you prefer (i.e. Braille\, Large Print\, or email). \nPlease RSVP to jen@vlrw.org or call Jen at (612) 843-2583.  She will send you materials and Zoom link prior to the first session.
URL:https://visionlossresources.org/event/learning-spanish-ii-5/2020-09-17/
LOCATION:Online Only\, MN\, United States
CATEGORIES:Culture,Education
ORGANIZER;CN="Vision Loss Resources":MAILTO:rsvp@vlrw.org
END:VEVENT
BEGIN:VEVENT
DTSTART;TZID=America/Chicago:20200910T090000
DTEND;TZID=America/Chicago:20200910T103000
DTSTAMP:20260422T111248
CREATED:20200824T150008Z
LAST-MODIFIED:20200928T150045Z
UID:10000992-1599728400-1599733800@visionlossresources.org
SUMMARY:Learning Spanish II
DESCRIPTION:We have an opportunity to learn basic Spanish over a period of five Thursdays in September and October. Iris M. will be our instructor again. You’re encouraged to attend all five classes. You’ll be provided with materials prior to the start of the sessions in the format you prefer (i.e. Braille\, Large Print\, or email). \nPlease RSVP to jen@vlrw.org or call Jen at (612) 843-2583.  She will send you materials and Zoom link prior to the first session.
URL:https://visionlossresources.org/event/learning-spanish-ii-5/2020-09-10/
LOCATION:Online Only\, MN\, United States
CATEGORIES:Culture,Education
ORGANIZER;CN="Vision Loss Resources":MAILTO:rsvp@vlrw.org
END:VEVENT
END:VCALENDAR