BEGIN:VCALENDAR
VERSION:2.0
PRODID:-//Vision Loss Resources - ECPv6.15.19//NONSGML v1.0//EN
CALSCALE:GREGORIAN
METHOD:PUBLISH
X-ORIGINAL-URL:https://visionlossresources.org
X-WR-CALDESC:Events for Vision Loss Resources
REFRESH-INTERVAL;VALUE=DURATION:PT1H
X-Robots-Tag:noindex
X-PUBLISHED-TTL:PT1H
BEGIN:VTIMEZONE
TZID:America/Chicago
BEGIN:DAYLIGHT
TZOFFSETFROM:-0600
TZOFFSETTO:-0500
TZNAME:CDT
DTSTART:20180311T080000
END:DAYLIGHT
BEGIN:STANDARD
TZOFFSETFROM:-0500
TZOFFSETTO:-0600
TZNAME:CST
DTSTART:20181104T070000
END:STANDARD
BEGIN:DAYLIGHT
TZOFFSETFROM:-0600
TZOFFSETTO:-0500
TZNAME:CDT
DTSTART:20190310T080000
END:DAYLIGHT
BEGIN:STANDARD
TZOFFSETFROM:-0500
TZOFFSETTO:-0600
TZNAME:CST
DTSTART:20191103T070000
END:STANDARD
BEGIN:DAYLIGHT
TZOFFSETFROM:-0600
TZOFFSETTO:-0500
TZNAME:CDT
DTSTART:20200308T080000
END:DAYLIGHT
BEGIN:STANDARD
TZOFFSETFROM:-0500
TZOFFSETTO:-0600
TZNAME:CST
DTSTART:20201101T070000
END:STANDARD
BEGIN:DAYLIGHT
TZOFFSETFROM:-0600
TZOFFSETTO:-0500
TZNAME:CDT
DTSTART:20210314T080000
END:DAYLIGHT
BEGIN:STANDARD
TZOFFSETFROM:-0500
TZOFFSETTO:-0600
TZNAME:CST
DTSTART:20211107T070000
END:STANDARD
END:VTIMEZONE
BEGIN:VTIMEZONE
TZID:Africa/Abidjan
BEGIN:STANDARD
TZOFFSETFROM:+0000
TZOFFSETTO:+0000
TZNAME:GMT
DTSTART:20180101T000000
END:STANDARD
END:VTIMEZONE
BEGIN:VEVENT
DTSTART;TZID=America/Chicago:20201209T130000
DTEND;TZID=America/Chicago:20201209T143000
DTSTAMP:20260419T083922
CREATED:20201123T130041Z
LAST-MODIFIED:20201120T193849Z
UID:10000791-1607518800-1607524200@visionlossresources.org
SUMMARY:Reader's Choice Book Club
DESCRIPTION:For December\, we will be reading the books A Big Sky Christmas (DB077883) and A Rocky Mountain Christmas (DBC12878) by William Johnstone. \nTo join\, call 612-843-2594.
URL:https://visionlossresources.org/event/readers-choice-book-club-15/
LOCATION:Online Only\, MN\, United States
CATEGORIES:Books,Featured
ORGANIZER;CN="Vision Loss Resources":MAILTO:rsvp@vlrw.org
END:VEVENT
BEGIN:VEVENT
DTSTART;TZID=America/Chicago:20201111T130000
DTEND;TZID=America/Chicago:20201111T143000
DTSTAMP:20260419T083922
CREATED:20201026T150007Z
LAST-MODIFIED:20201022T190835Z
UID:10001024-1605099600-1605105000@visionlossresources.org
SUMMARY:Reader's Choice Book Club
DESCRIPTION:For November\, we will be reading the book The Boys in the Boat by Daniel James Brown.\nTo join\, call 612-843-2594.
URL:https://visionlossresources.org/event/readers-choice-book-club-14/
LOCATION:VLR Conference Phone Line
CATEGORIES:Books,Featured
ORGANIZER;CN="Vision Loss Resources":MAILTO:rsvp@vlrw.org
END:VEVENT
BEGIN:VEVENT
DTSTART;TZID=America/Chicago:20201014T130000
DTEND;TZID=America/Chicago:20201014T143000
DTSTAMP:20260419T083922
CREATED:20200928T150054Z
LAST-MODIFIED:20200925T135259Z
UID:10001010-1602680400-1602685800@visionlossresources.org
SUMMARY:Reader's Choice Book Club
DESCRIPTION:For October\, we will be reading the book Black White Blue: The Assassination of Patrolman James Sackett (DBC19701) by William Swanson.\nTo join\, call (612) 843-2594.
URL:https://visionlossresources.org/event/readers-choice-book-club-13/
LOCATION:Online Only\, MN\, United States
CATEGORIES:Books,Featured
ORGANIZER;CN="Vision Loss Resources":MAILTO:rsvp@vlrw.org
END:VEVENT
BEGIN:VEVENT
DTSTART;TZID=America/Chicago:20200909T130000
DTEND;TZID=America/Chicago:20200909T143000
DTSTAMP:20260419T083922
CREATED:20200824T150035Z
LAST-MODIFIED:20200824T164515Z
UID:10000991-1599656400-1599661800@visionlossresources.org
SUMMARY:Reader's Choice Book Club
DESCRIPTION:For September\, we will be reading the book Catch Me If You Can: The Amazing True Story of the Youngest & Most Daring Conman in the History of Fun & Profit (DB055517) by Frank W. Abagnale. \nTo join\, call (612) 843-2594.
URL:https://visionlossresources.org/event/readers-choice-book-club-12/
LOCATION:MN\, United States
CATEGORIES:Books,Featured
ORGANIZER;CN="Vision Loss Resources":MAILTO:rsvp@vlrw.org
END:VEVENT
BEGIN:VEVENT
DTSTART;TZID=America/Chicago:20200812T130000
DTEND;TZID=America/Chicago:20200812T143000
DTSTAMP:20260419T083922
CREATED:20200730T131947Z
LAST-MODIFIED:20200731T173528Z
UID:10000759-1597237200-1597242600@visionlossresources.org
SUMMARY:Reader's Choice Book Club
DESCRIPTION:The book club is coming back remotely. We will revisit the last book we had planned to read before COVID-19 hit: This Tender Land by local author William Kent Krueger (DB 096864). \nTo join this discussion\, call (612) 843-2594. We will all be connected on the VLR conference line.
URL:https://visionlossresources.org/event/readers-choice-book-club-11/
LOCATION:MN\, United States
CATEGORIES:Books,Featured
ORGANIZER;CN="Vision Loss Resources":MAILTO:rsvp@vlrw.org
END:VEVENT
BEGIN:VEVENT
DTSTART;TZID=America/Chicago:20200311T130000
DTEND;TZID=America/Chicago:20200311T143000
DTSTAMP:20260419T083922
CREATED:20200224T145608Z
LAST-MODIFIED:20200224T152359Z
UID:10000959-1583931600-1583937000@visionlossresources.org
SUMMARY:Reader's Choice Book Club
DESCRIPTION:For March we will be reading the book The Emoji Games by the local author Peter Georges. There is no DB number for this book since it was recorded locally\, you need to contact SSB to download it.
URL:https://visionlossresources.org/event/readers-choice-book-club-10/
LOCATION:MN
CATEGORIES:Books
END:VEVENT
BEGIN:VEVENT
DTSTART;TZID=America/Chicago:20200212T130000
DTEND;TZID=America/Chicago:20200212T143000
DTSTAMP:20260419T083922
CREATED:20200128T203325Z
LAST-MODIFIED:20200130T162334Z
UID:10000711-1581512400-1581517800@visionlossresources.org
SUMMARY:Reader's Choice Book Club
DESCRIPTION:For February we will be reading the book Violins of Hope: Instruments From the Holocaust (DB087215) by James Grymes.
URL:https://visionlossresources.org/event/readers-choice-book-club-9/
LOCATION:MN\, United States
CATEGORIES:Books
END:VEVENT
BEGIN:VEVENT
DTSTART;TZID=America/Chicago:20200108T130000
DTEND;TZID=America/Chicago:20200108T143000
DTSTAMP:20260419T083922
CREATED:20191223T174458Z
LAST-MODIFIED:20191223T201849Z
UID:10000923-1578488400-1578493800@visionlossresources.org
SUMMARY:Reader's Choice Book Club
DESCRIPTION:For January we will be reading the book Where The Crawdads Sing (DB092245) by Delia Owens.
URL:https://visionlossresources.org/event/readers-choice-book-club-8/
LOCATION:MN\, United States
CATEGORIES:Books
END:VEVENT
BEGIN:VEVENT
DTSTART;TZID=America/Chicago:20191211T130000
DTEND;TZID=America/Chicago:20191211T143000
DTSTAMP:20260419T083922
CREATED:20191125T194026Z
LAST-MODIFIED:20191202T175204Z
UID:10000878-1576069200-1576074600@visionlossresources.org
SUMMARY:Reader's Choice Book Club
DESCRIPTION:For December we will be reading the book The Wright Brothers (DB082175) by David G. McCullough.
URL:https://visionlossresources.org/event/readers-choice-book-club-7/
LOCATION:MN\, United States
CATEGORIES:Books,Featured
END:VEVENT
BEGIN:VEVENT
DTSTART;TZID=America/Chicago:20191113T130000
DTEND;TZID=America/Chicago:20191113T143000
DTSTAMP:20260419T083922
CREATED:20191016T162347Z
LAST-MODIFIED:20191025T144905Z
UID:10000839-1573650000-1573655400@visionlossresources.org
SUMMARY:Reader's Choice Book Club
DESCRIPTION:For November we will be reading the book The Reckoning (DB092511) by John Grisham.
URL:https://visionlossresources.org/event/readers-choice-book-club-6/
LOCATION:MN\, United States
CATEGORIES:Books
END:VEVENT
BEGIN:VEVENT
DTSTART;TZID=Africa/Abidjan:20191009T130000
DTEND;TZID=Africa/Abidjan:20191009T143000
DTSTAMP:20260419T083922
CREATED:20190923T195313Z
LAST-MODIFIED:20190923T195738Z
UID:10000772-1570626000-1570631400@visionlossresources.org
SUMMARY:Reader's Choice Book Club
DESCRIPTION:For October we will be reading the book The Perfect Horse: The Daring US Mission to Rescue the Priceless Stallions Kidnapped By the Nazis (DB085593) by Elizabeth Letts.
URL:https://visionlossresources.org/event/readers-choice-book-club-4/
LOCATION:MN\, United States
CATEGORIES:Books
ORGANIZER;CN="Vision Loss Resources":MAILTO:rsvp@vlrw.org
END:VEVENT
BEGIN:VEVENT
DTSTART;TZID=America/Chicago:20190911T130000
DTEND;TZID=America/Chicago:20190911T143000
DTSTAMP:20260419T083922
CREATED:20190815T191335Z
LAST-MODIFIED:20190904T200747Z
UID:10000610-1568206800-1568212200@visionlossresources.org
SUMMARY:Reader's Choice Book Club
DESCRIPTION:For September we will be reading the book Up Country (DB053667) by Nelson DeMille. \nPlease RSVP for every event: call (612) 843-3439 or email rsvp@vlrw.org. \nLearn about VLR’s event policies and news.
URL:https://visionlossresources.org/event/readers-choice-book-club-3/
LOCATION:MN\, United States
CATEGORIES:Books
ORGANIZER;CN="Vision Loss Resources":MAILTO:rsvp@vlrw.org
END:VEVENT
END:VCALENDAR